Workbook

Sheet 5-Year Plan (2014-19)
E1: Total Goals and Funding for Province 2013/14 | BB1: Comments | BC1: Total Goals and Funding for Province 2014/15 | CZ1: Comments | DA1: Total Goals and Funding for Province 2015/16 | EX1: Comments | EY1: Total Goals and Funding for Province 2016/17 | GV1: Comments | GW1: Total Goals and Funding for Province 2017/18 | IT1: Comments | IU1: Total Goals and Funding for Province 2018/19 | KR1: Comments
E2: Current Reforestation | AH2: TS Mitigation | AX2: General Acrivities | BC2: Current Reforestation | CF2: TS Mitigation | CV2: General Activities | DA2: Current Reforestation | ED2: TS Mitigation | ET2: General Activities | EY2: Current Reforestation | GB2: TS Mitigation | GR2: General Activities | GW2: Current Reforestation | HZ2: TS Mitigation | IP2: General Activities | IU2: Current Reforestation | JX2: TS Mitigation | KN2: General Activities
E3: Surveys | AG3: CR Subtotal | AW3: TSM Subtotal | BA3: 2013/14 total | BC3: Surveys | CE3: CR Subtotal | CU3: TSM Subtotal | CY3: 2014/15 total | DA3: Surveys | EC3: CR Subtotal | ES3: TSM Subtotal | EW3: 2015/16 total | EY3: Surveys | GA3: CR Subtotal | GQ3: TSM Subtotal | GU3: 2016/17 total | GW3: Surveys | HY3: CR Subtotal | IO3: TSM Subtotal | IS3: 2017/18 total | IU3: Surveys | JW3: CR Subtotal | KM3: TSM Subtotal | KQ3: 2018/19 total
E4: Backlog NSR | H4: MPB/Wildfire | K4: Defaulted Obligation | N4: Brushing SU | Q4: Site Prep. | T4: Brushing | W4: Repression Density Spacing | Z4: Planting | AC4: Sowing | AD4: Overstory Removal | AH4: Surveys | AK4: Conifer Release | AN4: Spacing | AQ4: Fertilization | AT4: Pruning | AX4: Access | AY4: Overview Planning | AZ4: Program Support (Admin) | BC4: Backlog NSR | BF4: MPB/Wildfire | BI4: Defaulted Obligation | BL4: Stand Maintenance SU | BO4: Site Prep. | BR4: Brushing | BU4: Repression Density Spacing | BX4: Planting | CA4: Sowing | CB4: Overstory Removal | CF4: Surveys | CI4: Conifer Release | CL4: Spacing | CO4: Fertilization | CR4: Pruning | CV4: Access | CW4: Overview Planning | CX4: Program Support (Admin) | DA4: Backlog NSR | DD4: MPB/Wildfire | DG4: Defaulted Obligation | DJ4: Stand Maintenance SU | DM4: Site Prep. | DP4: Brushing | DS4: Repression Density Spacing | DV4: Planting | DY4: Sowing | DZ4: Overstory Removal | ED4: Surveys | EG4: Conifer Release | EJ4: Spacing | EM4: Fertilization | EP4: Pruning | ET4: Access | EU4: Overview Planning | EV4: Program Support (Admin) | EY4: Backlog NSR | FB4: MPB/Wildfire | FE4: Defaulted Obligation | FH4: Stand Maintenance Su | FK4: Site Prep. | FN4: Brushing | FQ4: Repression Density Spacing | FT4: Planting | FW4: Sowing | FX4: Overstory Removal | GB4: Surveys | GE4: Conifer Release | GH4: Spacing | GK4: Fertilization | GN4: Pruning | GR4: Access | GS4: Overview Planning | GT4: Program Support (Admin) | GW4: Backlog NSR | GZ4: MPB/Wildfire | HC4: Defaulted Obligation | HF4: Stand Maintenance SU | HI4: Site Prep. | HL4: Brushing | HO4: Repression Density Spacing | HR4: Planting | HU4: Sowing | HV4: Overstory Removal | HZ4: Surveys | IC4: Conifer Release | IF4: Spacing | II4: Fertilization | IL4: Pruning | IP4: Access | IQ4: Overview Planning | IR4: Program Support (Admin) | IU4: Backlog NSR | IX4: MPB/Wildfire | JA4: Defaulted Obligation | JD4: Stand Maintenance SU | JG4: Site Prep. | JJ4: Brushing | JM4: Repression Density Spacing | JP4: Planting | JS4: Sowing | JT4: Overstory Removal | JX4: Surveys | KA4: Conifer Release | KD4: Spacing | KG4: Fertilization | KJ4: Pruning | KN4: Access | KO4: Overview Planning | KP4: Program Support (Admin)
A5: Area | B5: Region | C5: District | D5: Delivery Agent | E5: Hectares | F5: unit costs | G5: $$$ | H5: Hectares | I5: unit costs | J5: $$$ | K5: Hectares | L5: unit costs | M5: $$$ | N5: Hectares | O5: unit costs | P5: $$$ | Q5: Hectares | R5: unit costs | S5: $$$ | T5: Hectares | U5: unit costs | V5: $$$ | W5: Hectares | X5: unit costs | Y5: $$$ | Z5: Trees | AA5: unit costs | AB5: $$$ | AC5: Trees | AD5: Hectares | AE5: unit costs | AF5: $$$ | AG5: $$$ | AH5: Hectares | AI5: unit costs | AJ5: $$$ | AK5: Hectares | AL5: unit costs | AM5: $$$ | AN5: Hectares | AO5: unit costs | AP5: $$$ | AQ5: Hectares | AR5: unit Costs | AS5: $$$ | AT5: Hectares | AU5: unit costs | AV5: $$$ | AW5: $$$ | AX5: $$$ | AY5: $$$ | AZ5: $$$ | BA5: $$$ | BC5: Hectares | BD5: unit costs | BE5: $$$ | BF5: Hectares | BG5: unit costs | BH5: $$$ | BI5: Hectares | BJ5: unit costs | BK5: $$$ | BL5: Hectares | BM5: unit costs | BN5: $$$ | BO5: Hectares | BP5: unit costs | BQ5: $$$ | BR5: Hectares | BS5: unit costs | BT5: $$$ | BU5: Hectares | BV5: unit costs | BW5: $$$ | BX5: Trees | BY5: unit costs | BZ5: $$$ | CA5: Trees | CB5: Hectares | CC5: unit costs | CD5: $$$ | CE5: $$$ | CF5: Hectares | CG5: unit costs | CH5: $$$ | CI5: Hectares | CJ5: unit costs | CK5: $$$ | CL5: Hectares | CM5: unit costs | CN5: $$$ | CO5: Hectares | CP5: unit costs | CQ5: $$$ | CR5: Hectares | CS5: unit costs | CT5: $$$ | CU5: $$$ | CV5: $$$ | CW5: $$$ | CX5: $$$ | CY5: $$$ | DA5: Hectares | DB5: Unit Costs | DC5: $$$ | DD5: Hectares | DE5: Unit Costs | DF5: $$$ | DG5: Hectares | DH5: Unit Costs | DI5: $$$ | DJ5: Hectares | DK5: Unit Costs | DL5: $$$ | DM5: Hectares | DN5: Unit Costs | DO5: $$$ | DP5: Hectares | DQ5: Unit Costs | DR5: $$$ | DS5: Hectares | DT5: Unit Costs | DU5: $$$ | DV5: Trees | DW5: Unit Costs | DX5: $$$ | DY5: Trees | DZ5: Hectares | EA5: Unit Costs | EB5: $$$ | EC5: $$$ | ED5: Hectares | EE5: Unit Costs | EF5: $$$ | EG5: Hectares | EH5: Unit Costs | EI5: $$$ | EJ5: Hectares | EK5: Unit Costs | EL5: $$$ | EM5: Hectares | EN5: Unit Costs | EO5: $$$ | EP5: Hectares | EQ5: Unit Costs | ER5: $$$ | ES5: $$$ | ET5: $$$ | EU5: $$$ | EV5: $$$ | EW5: $$$ | EY5: Hectares | EZ5: Unit Cost | FA5: $$$ | FB5: Hectares | FC5: Unit Cost | FD5: $$$ | FE5: Hectares | FF5: Unit Cost | FG5: $$$ | FH5: Hectares | FI5: Unit Cost | FJ5: $$$ | FK5: Hectares | FL5: Unit Cost | FM5: $$$ | FN5: Hectares | FO5: Unit Cost | FP5: $$$ | FQ5: Hectares | FR5: Unit Cost | FS5: $$$ | FT5: Trees | FU5: Unit Cost | FV5: $$$ | FW5: Trees | FX5: Hectares | FY5: Unit Cost | FZ5: $$$ | GA5: $$$ | GB5: Hectares | GC5: Unit Cost | GD5: $$$ | GE5: Hectares | GF5: Unit Cost | GG5: $$$ | GH5: Hectares | GI5: Unit Cost | GJ5: $$$ | GK5: Hectares | GL5: Unit Cost | GM5: $$$ | GN5: Hectares | GO5: Unit Cost | GP5: $$$ | GQ5: $$$ | GR5: $$$ | GS5: $$$ | GT5: $$$ | GU5: $$$ | GW5: Hectares | GX5: Unit Cost | GY5: $$$ | GZ5: Hectares | HA5: Unit Cost | HB5: $$$ | HC5: Hectares | HD5: Unit Cost | HE5: $$$ | HF5: Hectares | HG5: Unit Cost | HH5: $$$ | HI5: Hectares | HJ5: Unit Cost | HK5: $$$ | HL5: Hectares | HM5: Unit Cost | HN5: $$$ | HO5: Hectares | HP5: Unit Cost | HQ5: $$$ | HR5: Trees | HS5: Unit Cost | HT5: $$$ | HU5: Trees | HV5: Hectares | HW5: Unit Cost | HX5: $$$ | HY5: $$$ | HZ5: Hectares | IA5: Unit Cost | IB5: $$$ | IC5: Hectares | ID5: Unit Cost | IE5: $$$ | IF5: Hectares | IG5: Unit Cost | IH5: $$$ | II5: Hectares | IJ5: Unit Cost | IK5: $$$ | IL5: Hectares | IM5: Unit Cost | IN5: $$$ | IO5: $$$ | IP5: $$$ | IQ5: $$$ | IR5: $$$ | IS5: $$$ | IU5: Hectares | IV5: Unit Cost | IW5: $$$ | IX5: Hectares | IY5: Unit Cost | IZ5: $$$ | JA5: Hectares | JB5: Unit Cost | JC5: $$$ | JD5: Hectares | JE5: Unit Cost | JF5: $$$ | JG5: Hectares | JH5: Unit Cost | JI5: $$$ | JJ5: Hectares | JK5: Unit Cost | JL5: $$$ | JM5: Hectares | JN5: Unit Cost | JO5: $$$ | JP5: Trees | JQ5: Unit Cost | JR5: $$$ | JS5: Trees | JT5: Hectares | JU5: Unit Cost | JV5: $$$ | JW5: $$$ | JX5: Hectares | JY5: Unit Cost | JZ5: $$$ | KA5: Hectares | KB5: Unit Cost | KC5: $$$ | KD5: Hectares | KE5: Unit Cost | KF5: $$$ | KG5: Hectares | KH5: Unit Cost | KI5: $$$ | KJ5: Hectares | KK5: Unit Cost | KL5: $$$ | KM5: $$$ | KN5: $$$ | KO5: $$$ | KP5: $$$ | KQ5: $$$
A6: South Area | B6: CR | L6: =IF(ISERROR(M6/K6),"",(M6/K6)) | AG6: =SUM(G6,J6,M6,P6,S6,V6,AB6,AF6) -> 0 | AI6: =IF(ISERROR(AJ6/AH6),"",(AJ6/AH6)) | AU6: =IF(ISERROR(AV6/AT6),"0",(AV6/AT6)) -> 0 | AW6: =SUM(AJ6,AM6,AP6,AS6,AV6) -> 0 | AZ6: 40000 | BA6: =AG6+AW6+AX6+AY6+AZ6 -> 40000 | CE6: =SUM(BE6,BH6,BK6,BN6,BQ6,BT6,BW6,BZ6,CD6) -> 0 | CU6: =SUM(CH6,CK6,CN6,CQ6,CT6) -> 0 | CX6: 20000 | CY6: =CE6+CU6+CV6+CW6+CX6 -> 20000 | EC6: =SUM(DC6,DF6,DI6,DL6,DO6,DR6,DU6,DX6,EB6) -> 0 | ES6: =SUM(EF6,EI6,EL6,EO6,ER6) -> 0 | EV6: 20000 | EW6: =EC6+ES6+ET6+EU6+EV6 -> 20000 | GA6: =SUM(FA6,FD6,FG6,FJ6,FM6,FP6,FS6,FV6,FZ6) -> 0 | GQ6: =SUM(GD6,GG6,GJ6,GM6,GP6) -> 0 | GT6: 20000 | GU6: =GA6+GQ6+GR6+GS6+GT6 -> 20000 | HY6: =SUM(GY6,HB6,HE6,HH6,HK6,HN6,HQ6,HT6,HX6) -> 0 | IO6: =SUM(IB6,IE6,IH6,IK6,IN6) -> 0 | IR6: 20000 | IS6: =HY6+IO6+IP6+IQ6+IR6 -> 20000 | JW6: =SUM(IW6,IZ6,JC6,JF6,JI6,JL6,JO6,JR6,JV6) -> 0 | KM6: =SUM(JZ6,KC6,KF6,KI6,KL6) -> 0 | KP6: 20000 | KQ6: =JW6+KM6+KN6+KO6+KP6 -> 20000
C7: Central Cariboo-Chilcotin | D7: District | E7: 1500 | F7: =IF(ISERROR(G7/E7),"",(G7/E7)) -> 25 | G7: 37500 | H7: 1000 | I7: =IF(ISERROR(J7/H7),"",(J7/H7)) -> 30 | J7: 30000 | K7: 1500 | L7: =IF(ISERROR(M7/K7),"",(M7/K7)) -> 30 | M7: 45000 | O7: =IF(ISERROR(P7/N7),"",(P7/N7)) | Q7: 400 | R7: =IF(ISERROR(S7/Q7),"",(S7/Q7)) -> 100 | S7: 40000 | U7: =IF(ISERROR(V7/T7),"",(V7/T7)) | Z7: 3250000 | AA7: =IF(ISERROR(AB7/Z7),"",(AB7/Z7)) -> 0.39138462 | AB7: 1272000 | AC7: 4000000 | AE7: =IF(ISERROR(AF7/AD7),"",(AF7/AD7)) | AG7: =SUM(G7,J7,M7,P7,S7,V7,AB7,AF7) -> 1424500 | AI7: =IF(ISERROR(AJ7/AH7),"",(AJ7/AH7)) | AL7: =IF(ISERROR(AM7/AK7),"",(AM7/AK7)) | AO7: =IF(ISERROR(AP7/AN7),"",(AP7/AN7)) | AR7: =IF(ISERROR(AS7/AQ7),"",(AS7/AQ7)) | AU7: =IF(ISERROR(AV7/AT7),"0",(AV7/AT7)) -> 0 | AW7: =SUM(AJ7,AM7,AP7,AS7,AV7) -> 0 | AY7: 5000 | AZ7: =SUM(G7,J7,M7,P7,S7,V7,AB7,AF7,AJ7,AM7,AP7,AV7,AS7,AX7)*0.1 -> 142450 | BA7: =AG7+AW7+AX7+AY7+AZ7 -> 1571950 | BD7: =IF(ISERROR(BE7/BC7),"",(BE7/BC7)) | BF7: 200 | BG7: 50 | BH7: 10000 | BI7: 16000 | BJ7: 25 | BK7: 400000 | BL7: 2000 | BM7: =IF(ISERROR(BN7/BL7),"",(BN7/BL7)) -> 10 | BN7: 20000 | BO7: 2200 | BP7: 200 | BQ7: 440000 | BR7: 110 | BS7: 738 | BT7: 81180 | BX7: 4000000 | BY7: =IF(ISERROR(BZ7/BX7),"",(BZ7/BX7)) -> 0.57 | BZ7: 2280000 | CA7: 4000000 | CC7: =IF(ISERROR(CD7/CB7),"",(CD7/CB7)) | CE7: =SUM(BE7,BH7,BK7,BN7,BQ7,BT7,BW7,BZ7,CD7) -> 3231180 | CG7: =IF(ISERROR(CH7/CF7),"",(CH7/CF7)) | CJ7: =IF(ISERROR(CK7/CI7),"",(CK7/CI7)) | CM7: =IF(ISERROR(CN7/CL7),"",(CN7/CL7)) | CP7: =IF(ISERROR(CQ7/CO7),"",(CQ7/CO7)) | CS7: =IF(ISERROR(CT7/CR7),"",(CT7/CR7)) | CU7: =SUM(CH7,CK7,CN7,CQ7,CT7) -> 0 | CW7: 5000 | CX7: =SUM(BE7,BH7,BK7,BN7,BQ7,BT7,BZ7,CD7,CH7,CK7,CN7,CQ7,CT7)*0.1 -> 323118 | CY7: =CE7+CU7+CV7+CW7+CX7 -> 3559298 | DD7: 5000 | DF7: 125000 | DG7: 10000 | DI7: 300000 | DJ7: 1500 | DL7: 15000 | DM7: 500 | DO7: 51000 | DP7: 100 | DR7: 76200 | DV7: 4000000 | DX7: 2280000 | DY7: 4000000 | EC7: =SUM(DC7,DF7,DI7,DL7,DO7,DR7,DU7,DX7,EB7) -> 2847200 | ES7: =SUM(EF7,EI7,EL7,EO7,ER7) -> 0 | EU7: 5000 | EV7: =SUM(DC7,DF7,DI7,DL7,DO7,DR7,DX7,EB7,EF7,EI7,EL7,EO7,ER7)*0.1 -> 284720 | EW7: =EC7+ES7+ET7+EU7+EV7 -> 3136920 | FB7: 5000 | FD7: 125000 | FE7: 5000 | FG7: 125000 | FH7: 1500 | FJ7: 15000 | FK7: 500 | FM7: 125000 | FN7: 100 | FP7: 76200 | FT7: 4000000 | FV7: 2280000 | FW7: 4000000 | GA7: =SUM(FA7,FD7,FG7,FJ7,FM7,FP7,FS7,FV7,FZ7) -> 2746200 | GQ7: =SUM(GD7,GG7,GJ7,GM7,GP7) -> 0 | GS7: 5000 | GT7: =SUM(FA7,FD7,FG7,FJ7,FM7,FP7,FV7,FZ7,GD7,GG7,GJ7,GM7,GP7)*0.1 -> 274620 | GU7: =GA7+GQ7+GR7+GS7+GT7 -> 3025820 | GZ7: 5000 | HB7: 125000 | HC7: 9000 | HE7: 270000 | HF7: 2000 | HH7: 20000 | HI7: 500 | HK7: 125000 | HL7: 100 | HN7: 76200 | HR7: 4000000 | HT7: 2280000 | HU7: 4000000 | HY7: =SUM(GY7,HB7,HE7,HH7,HK7,HN7,HQ7,HT7,HX7) -> 2896200 | IO7: =SUM(IB7,IE7,IH7,IK7,IN7) -> 0 | IQ7: 5000 | IR7: =SUM(GY7,HB7,HE7,HH7,HK7,HN7,HT7,HX7,IB7,IE7,IH7,IK7,IN7)*0.1 -> 289620 | IS7: =HY7+IO7+IP7+IQ7+IR7 -> 3190820 | IX7: 5000 | IZ7: 125000 | JA7: 9000 | JC7: 270000 | JD7: 2000 | JF7: 20000 | JG7: 500 | JI7: 125000 | JJ7: 100 | JL7: 76200 | JP7: 4000000 | JR7: 2280000 | JS7: 4000000 | JW7: =SUM(IW7,IZ7,JC7,JF7,JI7,JL7,JO7,JR7,JV7) -> 2896200 | KM7: =SUM(JZ7,KC7,KF7,KI7,KL7) -> 0 | KO7: 5000 | KP7: =SUM(IW7,IZ7,JC7,JF7,JI7,JL7,JR7,JV7,JZ7,KC7,KF7,KI7,KL7)*0.1 -> 289620 | KQ7: =JW7+KM7+KN7+KO7+KP7 -> 3190820
D8: BCTS | F8: =IF(ISERROR(G8/E8),"",(G8/E8)) | H8: 3500 | I8: =IF(ISERROR(J8/H8),"",(J8/H8)) -> 19 | J8: 66500 | L8: =IF(ISERROR(M8/K8),"",(M8/K8)) | N8: 250 | O8: =IF(ISERROR(P8/N8),"",(P8/N8)) -> 4.8 | P8: 1200 | Q8: 1200 | R8: =IF(ISERROR(S8/Q8),"",(S8/Q8)) -> 96.666667 | S8: 116000 | U8: =IF(ISERROR(V8/T8),"",(V8/T8)) | Z8: 418879 | AA8: =IF(ISERROR(AB8/Z8),"",(AB8/Z8)) -> 0.42399118 | AB8: 177601 | AC8: 600000 | AE8: =IF(ISERROR(AF8/AD8),"",(AF8/AD8)) | AG8: =SUM(G8,J8,M8,P8,S8,V8,AB8,AF8) -> 361301 | AI8: =IF(ISERROR(AJ8/AH8),"",(AJ8/AH8)) | AL8: =IF(ISERROR(AM8/AK8),"",(AM8/AK8)) | AO8: =IF(ISERROR(AP8/AN8),"",(AP8/AN8)) | AR8: =IF(ISERROR(AS8/AQ8),"",(AS8/AQ8)) | AU8: =IF(ISERROR(AV8/AT8),"0",(AV8/AT8)) -> 0 | AW8: =SUM(AJ8,AM8,AP8,AS8,AV8) -> 0 | AZ8: =SUM(G8,J8,M8,P8,S8,V8,AB8,AF8,AJ8,AM8,AP8,AV8,AS8,AX8)*0.1 -> 36130.1 | BA8: =AG8+AW8+AX8+AY8+AZ8 -> 397431.1 | BD8: =IF(ISERROR(BE8/BC8),"",(BE8/BC8)) | BF8: 5000 | BG8: 17 | BH8: 85000 | BJ8: =IF(ISERROR(BK8/BI8),"",(BK8/BI8)) | BL8: 1849 | BM8: 4.38 | BN8: 8109 | BO8: 1000 | BP8: 150 | BQ8: 150000 | BS8: =IF(ISERROR(BT8/BR8),"",(BT8/BR8)) | BX8: 740992 | BY8: =IF(ISERROR(BZ8/BX8),"",(BZ8/BX8)) -> 0.50144401 | BZ8: 371566 | CA8: 500000 | CC8: =IF(ISERROR(CD8/CB8),"",(CD8/CB8)) | CE8: =SUM(BE8,BH8,BK8,BN8,BQ8,BT8,BW8,BZ8,CD8) -> 614675 | CG8: =IF(ISERROR(CH8/CF8),"",(CH8/CF8)) | CJ8: =IF(ISERROR(CK8/CI8),"",(CK8/CI8)) | CL8: 375 | CM8: =IF(ISERROR(CN8/CL8),"",(CN8/CL8)) -> 1298 | CN8: 486750 | CP8: =IF(ISERROR(CQ8/CO8),"",(CQ8/CO8)) | CS8: =IF(ISERROR(CT8/CR8),"",(CT8/CR8)) | CU8: =SUM(CH8,CK8,CN8,CQ8,CT8) -> 486750 | CX8: =SUM(BE8,BH8,BK8,BN8,BQ8,BT8,BZ8,CD8,CH8,CK8,CN8,CQ8,CT8)*0.1 -> 110142.5 | CY8: =CE8+CU8+CV8+CW8+CX8 -> 1211567.5 | DD8: 3000 | DE8: 20 | DF8: 60000 | DJ8: 1200 | DK8: 6.25 | DL8: 7500 | DM8: 1000 | DN8: 150 | DO8: 150000 | DV8: 600000 | DW8: 0.45 | DX8: 270000 | DY8: 500000 | EC8: =SUM(DC8,DF8,DI8,DL8,DO8,DR8,DU8,DX8,EB8) -> 487500 | EJ8: 375 | EK8: 1298 | EL8: 486750 | ES8: =SUM(EF8,EI8,EL8,EO8,ER8) -> 486750 | EV8: =SUM(DC8,DF8,DI8,DL8,DO8,DR8,DX8,EB8,EF8,EI8,EL8,EO8,ER8)*0.1 -> 97425 | EW8: =EC8+ES8+ET8+EU8+EV8 -> 1071675 | FB8: 2000 | FC8: 20 | FD8: 40000 | FH8: 622 | FI8: 15 | FJ8: 9330 | FK8: 750 | FL8: 150 | FM8: 112500 | FT8: 500000 | FU8: 0.5 | FV8: 250000 | FW8: 500000 | GA8: =SUM(FA8,FD8,FG8,FJ8,FM8,FP8,FS8,FV8,FZ8) -> 411830 | GH8: 375 | GI8: 1298 | GJ8: 486750 | GQ8: =SUM(GD8,GG8,GJ8,GM8,GP8) -> 486750 | GT8: =SUM(FA8,FD8,FG8,FJ8,FM8,FP8,FV8,FZ8,GD8,GG8,GJ8,GM8,GP8)*0.1 -> 89858 | GU8: =GA8+GQ8+GR8+GS8+GT8 -> 988438 | GZ8: 1500 | HA8: 20 | HB8: 30000 | HF8: 1000 | HG8: 15 | HH8: 15000 | HI8: 150 | HJ8: 160 | HK8: 24000 | HR8: 500000 | HS8: 0.5 | HT8: 250000 | HU8: 500000 | HY8: =SUM(GY8,HB8,HE8,HH8,HK8,HN8,HQ8,HT8,HX8) -> 319000 | IF8: 375 | IH8: 486750 | IO8: =SUM(IB8,IE8,IH8,IK8,IN8) -> 486750 | IR8: =SUM(GY8,HB8,HE8,HH8,HK8,HN8,HT8,HX8,IB8,IE8,IH8,IK8,IN8)*0.1 -> 80575 | IS8: =HY8+IO8+IP8+IQ8+IR8 -> 886325 | IX8: 1500 | IY8: 20 | IZ8: 30000 | JD8: 1000 | JE8: 15 | JF8: 15000 | JG8: 150 | JH8: 160 | JI8: 24000 | JP8: 500000 | JQ8: 0.5 | JR8: 250000 | JS8: 500000 | JW8: =SUM(IW8,IZ8,JC8,JF8,JI8,JL8,JO8,JR8,JV8) -> 319000 | KD8: 375 | KF8: 486750 | KM8: =SUM(JZ8,KC8,KF8,KI8,KL8) -> 486750 | KP8: =SUM(IW8,IZ8,JC8,JF8,JI8,JL8,JR8,JV8,JZ8,KC8,KF8,KI8,KL8)*0.1 -> 80575 | KQ8: =JW8+KM8+KN8+KO8+KP8 -> 886325
D9: Recipient - WFM | F9: =IF(ISERROR(G9/E9),"",(G9/E9)) | I9: =IF(ISERROR(J9/H9),"",(J9/H9)) | L9: =IF(ISERROR(M9/K9),"",(M9/K9)) | O9: =IF(ISERROR(P9/N9),"",(P9/N9)) | R9: =IF(ISERROR(S9/Q9),"",(S9/Q9)) | U9: =IF(ISERROR(V9/T9),"",(V9/T9)) | AA9: =IF(ISERROR(AB9/Z9),"",(AB9/Z9)) | AE9: =IF(ISERROR(AF9/AD9),"",(AF9/AD9)) | AG9: =SUM(G9,J9,M9,P9,S9,V9,AB9,AF9) -> 0 | AI9: =IF(ISERROR(AJ9/AH9),"",(AJ9/AH9)) | AL9: =IF(ISERROR(AM9/AK9),"",(AM9/AK9)) | AO9: =IF(ISERROR(AP9/AN9),"",(AP9/AN9)) | AU9: =IF(ISERROR(AV9/AT9),"0",(AV9/AT9)) -> 0 | AW9: =SUM(AJ9,AM9,AP9,AS9,AV9) -> 0 | AZ9: =SUM(G9,J9,M9,P9,S9,V9,AB9,AF9,AJ9,AM9,AP9,AV9,AS9,AX9)*0.1 -> 0 | BA9: =AG9+AW9+AX9+AY9+AZ9 -> 0 | BD9: =IF(ISERROR(BE9/BC9),"",(BE9/BC9)) | BG9: =IF(ISERROR(BH9/BF9),"",(BH9/BF9)) | BJ9: =IF(ISERROR(BK9/BI9),"",(BK9/BI9)) | BM9: =IF(ISERROR(BN9/BL9),"",(BN9/BL9)) | BP9: =IF(ISERROR(BQ9/BO9),"",(BQ9/BO9)) | BS9: =IF(ISERROR(BT9/BR9),"",(BT9/BR9)) | BY9: =IF(ISERROR(BZ9/BX9),"",(BZ9/BX9)) | CC9: =IF(ISERROR(CD9/CB9),"",(CD9/CB9)) | CE9: =SUM(BE9,BH9,BK9,BN9,BQ9,BT9,BW9,BZ9,CD9) -> 0 | CF9: 3000 | CG9: 50 | CH9: 150000 | CJ9: =IF(ISERROR(CK9/CI9),"",(CK9/CI9)) | CL9: 375 | CM9: =IF(ISERROR(CN9/CL9),"",(CN9/CL9)) -> 1298 | CN9: 486750 | CP9: =IF(ISERROR(CQ9/CO9),"",(CQ9/CO9)) | CS9: =IF(ISERROR(CT9/CR9),"",(CT9/CR9)) | CU9: =SUM(CH9,CK9,CN9,CQ9,CT9) -> 636750 | CX9: =SUM(BE9,BH9,BK9,BN9,BQ9,BT9,BZ9,CD9,CH9,CK9,CN9,CQ9,CT9)*0.1 -> 63675 | CY9: =CE9+CU9+CV9+CW9+CX9 -> 700425 | EC9: =SUM(DC9,DF9,DI9,DL9,DO9,DR9,DU9,DX9,EB9) -> 0 | ED9: 3000 | EF9: 150000 | EJ9: 375 | EL9: 486750 | ES9: =SUM(EF9,EI9,EL9,EO9,ER9) -> 636750 | EV9: =SUM(DC9,DF9,DI9,DL9,DO9,DR9,DX9,EB9,EF9,EI9,EL9,EO9,ER9)*0.1 -> 63675 | EW9: =EC9+ES9+ET9+EU9+EV9 -> 700425 | GA9: =SUM(FA9,FD9,FG9,FJ9,FM9,FP9,FS9,FV9,FZ9) -> 0 | GB9: 3000 | GD9: 150000 | GH9: 375 | GJ9: 486750 | GQ9: =SUM(GD9,GG9,GJ9,GM9,GP9) -> 636750 | GT9: =SUM(FA9,FD9,FG9,FJ9,FM9,FP9,FV9,FZ9,GD9,GG9,GJ9,GM9,GP9)*0.1 -> 63675 | GU9: =GA9+GQ9+GR9+GS9+GT9 -> 700425 | HY9: =SUM(GY9,HB9,HE9,HH9,HK9,HN9,HQ9,HT9,HX9) -> 0 | HZ9: 3000 | IB9: 150000 | IF9: 375 | IH9: 486750 | IO9: =SUM(IB9,IE9,IH9,IK9,IN9) -> 636750 | IR9: =SUM(GY9,HB9,HE9,HH9,HK9,HN9,HT9,HX9,IB9,IE9,IH9,IK9,IN9)*0.1 -> 63675 | IS9: =HY9+IO9+IP9+IQ9+IR9 -> 700425 | JW9: =SUM(IW9,IZ9,JC9,JF9,JI9,JL9,JO9,JR9,JV9) -> 0 | JX9: 3000 | JZ9: 150000 | KD9: 375 | KF9: 486750 | KM9: =SUM(JZ9,KC9,KF9,KI9,KL9) -> 636750 | KP9: =SUM(IW9,IZ9,JC9,JF9,JI9,JL9,JR9,JV9,JZ9,KC9,KF9,KI9,KL9)*0.1 -> 63675 | KQ9: =JW9+KM9+KN9+KO9+KP9 -> 700425
D10: Recipient - Tolko | CE10: =SUM(BE10,BH10,BK10,BN10,BQ10,BT10,BW10,BZ10,CD10) -> 0 | CF10: 1900 | CG10: 24 | CH10: 45600 | CO10: 1700 | CP10: 163 | CQ10: 277100 | CU10: =SUM(CH10,CK10,CN10,CQ10,CT10) -> 322700 | CX10: =SUM(BE10,BH10,BK10,BN10,BQ10,BT10,BZ10,CD10,CH10,CK10,CN10,CQ10,CT10)*0.1 -> 32270 | CY10: =CE10+CU10+CV10+CW10+CX10 -> 354970 | EC10: =SUM(DC10,DF10,DI10,DL10,DO10,DR10,DU10,DX10,EB10) -> 0 | ED10: 1900 | EF10: 45600 | EM10: 1700 | EO10: 277100 | ES10: =SUM(EF10,EI10,EL10,EO10,ER10) -> 322700 | EV10: =SUM(DC10,DF10,DI10,DL10,DO10,DR10,DX10,EB10,EF10,EI10,EL10,EO10,ER10)*0.1 -> 32270 | EW10: =EC10+ES10+ET10+EU10+EV10 -> 354970 | GA10: =SUM(FA10,FD10,FG10,FJ10,FM10,FP10,FS10,FV10,FZ10) -> 0 | GB10: 1900 | GD10: 45600 | GK10: 1700 | GM10: 277100 | GQ10: =SUM(GD10,GG10,GJ10,GM10,GP10) -> 322700 | GT10: =SUM(FA10,FD10,FG10,FJ10,FM10,FP10,FV10,FZ10,GD10,GG10,GJ10,GM10,GP10)*0.1 -> 32270 | GU10: =GA10+GQ10+GR10+GS10+GT10 -> 354970 | HY10: =SUM(GY10,HB10,HE10,HH10,HK10,HN10,HQ10,HT10,HX10) -> 0 | HZ10: 1900 | IB10: 45600 | II10: 1700 | IK10: 277100 | IO10: =SUM(IB10,IE10,IH10,IK10,IN10) -> 322700 | IR10: =SUM(GY10,HB10,HE10,HH10,HK10,HN10,HT10,HX10,IB10,IE10,IH10,IK10,IN10)*0.1 -> 32270 | IS10: =HY10+IO10+IP10+IQ10+IR10 -> 354970 | JW10: =SUM(IW10,IZ10,JC10,JF10,JI10,JL10,JO10,JR10,JV10) -> 0 | JX10: 1900 | JZ10: 45600 | KG10: 1700 | KI10: 277100 | KM10: =SUM(JZ10,KC10,KF10,KI10,KL10) -> 322700 | KP10: =SUM(IW10,IZ10,JC10,JF10,JI10,JL10,JR10,JV10,JZ10,KC10,KF10,KI10,KL10)*0.1 -> 32270 | KQ10: =JW10+KM10+KN10+KO10+KP10 -> 354970
D11: Esketemc CF | CE11: =SUM(BE11,BH11,BK11,BN11,BQ11,BT11,BW11,BZ11,CD11) -> 0 | CF11: 300 | CG11: 15 | CH11: 4500 | CL11: 300 | CM11: 1000 | CN11: 300000 | CU11: =SUM(CH11,CK11,CN11,CQ11,CT11) -> 304500 | CX11: 30450 | CY11: =CE11+CU11+CV11+CW11+CX11 -> 334950 | EC11: =SUM(DC11,DF11,DI11,DL11,DO11,DR11,DU11,DX11,EB11) -> 0 | ED11: 300 | EE11: 15 | EF11: 4500 | EJ11: 300 | EK11: 1000 | EL11: 300000 | ES11: =SUM(EF11,EI11,EL11,EO11,ER11) -> 304500 | EV11: 30450 | EW11: =EC11+ES11+ET11+EU11+EV11 -> 334950 | GA11: =SUM(FA11,FD11,FG11,FJ11,FM11,FP11,FS11,FV11,FZ11) -> 0 | GB11: 300 | GC11: 15 | GD11: 4500 | GH11: 300 | GI11: 1000 | GJ11: 300000 | GQ11: =SUM(GD11,GG11,GJ11,GM11,GP11) -> 304500 | GT11: 30450 | GU11: =GA11+GQ11+GR11+GS11+GT11 -> 334950 | HY11: =SUM(GY11,HB11,HE11,HH11,HK11,HN11,HQ11,HT11,HX11) -> 0 | HZ11: 300 | IA11: 15 | IB11: 4500 | IF11: 300 | IG11: 1000 | IH11: 300000 | IO11: =SUM(IB11,IE11,IH11,IK11,IN11) -> 304500 | IR11: 30450 | IS11: =HY11+IO11+IP11+IQ11+IR11 -> 334950 | JW11: =SUM(IW11,IZ11,JC11,JF11,JI11,JL11,JO11,JR11,JV11) -> 0 | JX11: 300 | JY11: 15 | JZ11: 4500 | KD11: 300 | KE11: 1000 | KF11: 300000 | KM11: =SUM(JZ11,KC11,KF11,KI11,KL11) -> 304500 | KP11: 30450 | KQ11: =JW11+KM11+KN11+KO11+KP11 -> 334950
D12: Likely CF | BF12: 268 | BG12: 72.05 | BH12: 19310 | CA12: 172080 | CE12: =SUM(BE12,BH12,BK12,BN12,BQ12,BT12,BW12,BZ12,CD12) -> 19310 | CF12: 792 | CG12: 30.5 | CH12: 24133 | CU12: =SUM(CH12,CK12,CN12,CQ12,CT12) -> 24133 | CX12: 4344 | CY12: =CE12+CU12+CV12+CW12+CX12 -> 47787 | CZ12: Sowing for Non-obligation planting on mpb nsr and backlog | DM12: 50 | DN12: 1208 | DO12: 60420 | EC12: =SUM(DC12,DF12,DI12,DL12,DO12,DR12,DU12,DX12,EB12) -> 60420 | ES12: =SUM(EF12,EI12,EL12,EO12,ER12) -> 0 | EV12: 6042 | EW12: =EC12+ES12+ET12+EU12+EV12 -> 66462 | FN12: 143 | FO12: 885 | FP12: 126995 | FT12: 172080 | FU12: 0.68 | FV12: 117702 | GA12: =SUM(FA12,FD12,FG12,FJ12,FM12,FP12,FS12,FV12,FZ12) -> 244697 | GQ12: =SUM(GD12,GG12,GJ12,GM12,GP12) -> 0 | GT12: 24469.7 | GU12: =GA12+GQ12+GR12+GS12+GT12 -> 269166.7 | HY12: =SUM(GY12,HB12,HE12,HH12,HK12,HN12,HQ12,HT12,HX12) -> 0 | IO12: =SUM(IB12,IE12,IH12,IK12,IN12) -> 0 | IS12: =HY12+IO12+IP12+IQ12+IR12 -> 0 | JW12: =SUM(IW12,IZ12,JC12,JF12,JI12,JL12,JO12,JR12,JV12) -> 0 | KM12: =SUM(JZ12,KC12,KF12,KI12,KL12) -> 0 | KQ12: =JW12+KM12+KN12+KO12+KP12 -> 0
D13: Cariboo WLA | BX13: 13600 | BZ13: 13524 | CE13: =SUM(BE13,BH13,BK13,BN13,BQ13,BT13,BW13,BZ13,CD13) -> 13524 | CF13: 400 | CG13: 28.12 | CH13: 11248 | CL13: 150 | CM13: 1150 | CN13: 172500 | CU13: =SUM(CH13,CK13,CN13,CQ13,CT13) -> 183748 | CX13: =SUM(BE13,BH13,BK13,BN13,BQ13,BT13,BZ13,CD13,CH13,CK13,CN13,CQ13,CT13)*0.1 -> 19727.2 | CY13: =CE13+CU13+CV13+CW13+CX13 -> 216999.2 | CZ13: Non obligation planting includes seedling purchase, site prep | EC13: =SUM(DC13,DF13,DI13,DL13,DO13,DR13,DU13,DX13,EB13) -> 0 | ES13: =SUM(EF13,EI13,EL13,EO13,ER13) -> 0 | EW13: =EC13+ES13+ET13+EU13+EV13 -> 0 | GA13: =SUM(FA13,FD13,FG13,FJ13,FM13,FP13,FS13,FV13,FZ13) -> 0 | GQ13: =SUM(GD13,GG13,GJ13,GM13,GP13) -> 0 | GU13: =GA13+GQ13+GR13+GS13+GT13 -> 0 | HY13: =SUM(GY13,HB13,HE13,HH13,HK13,HN13,HQ13,HT13,HX13) -> 0 | IO13: =SUM(IB13,IE13,IH13,IK13,IN13) -> 0 | IS13: =HY13+IO13+IP13+IQ13+IR13 -> 0 | JW13: =SUM(IW13,IZ13,JC13,JF13,JI13,JL13,JO13,JR13,JV13) -> 0 | KM13: =SUM(JZ13,KC13,KF13,KI13,KL13) -> 0 | KQ13: =JW13+KM13+KN13+KO13+KP13 -> 0
D14: TFL | F14: =IF(ISERROR(G14/E14),"",(G14/E14)) | I14: =IF(ISERROR(J14/H14),"",(J14/H14)) | L14: =IF(ISERROR(M14/K14),"",(M14/K14)) | O14: =IF(ISERROR(P14/N14),"",(P14/N14)) | R14: =IF(ISERROR(S14/Q14),"",(S14/Q14)) | U14: =IF(ISERROR(V14/T14),"",(V14/T14)) | AA14: =IF(ISERROR(AB14/Z14),"",(AB14/Z14)) | AE14: =IF(ISERROR(AF14/AD14),"",(AF14/AD14)) | AG14: =SUM(G14,J14,M14,P14,S14,V14,AB14,AF14) -> 0 | AI14: =IF(ISERROR(AJ14/AH14),"",(AJ14/AH14)) | AL14: =IF(ISERROR(AM14/AK14),"",(AM14/AK14)) | AO14: =IF(ISERROR(AP14/AN14),"",(AP14/AN14)) | AR14: =IF(ISERROR(AS14/AQ14),"",(AS14/AQ14)) | AU14: =IF(ISERROR(AV14/AT14),"0",(AV14/AT14)) -> 0 | AW14: =SUM(AJ14,AM14,AP14,AS14,AV14) -> 0 | AZ14: =SUM(G14,J14,M14,P14,S14,V14,AB14,AF14,AJ14,AM14,AP14,AV14,AS14,AX14)*0.1 -> 0 | BA14: =AG14+AW14+AX14+AY14+AZ14 -> 0 | BD14: =IF(ISERROR(BE14/BC14),"",(BE14/BC14)) | BG14: =IF(ISERROR(BH14/BF14),"",(BH14/BF14)) | BJ14: =IF(ISERROR(BK14/BI14),"",(BK14/BI14)) | BM14: =IF(ISERROR(BN14/BL14),"",(BN14/BL14)) | BP14: =IF(ISERROR(BQ14/BO14),"",(BQ14/BO14)) | BS14: =IF(ISERROR(BT14/BR14),"",(BT14/BR14)) | BY14: =IF(ISERROR(BZ14/BX14),"",(BZ14/BX14)) | CC14: =IF(ISERROR(CD14/CB14),"",(CD14/CB14)) | CE14: =SUM(BE14,BH14,BK14,BN14,BQ14,BT14,BW14,BZ14,CD14) -> 0 | CG14: =IF(ISERROR(CH14/CF14),"",(CH14/CF14)) | CJ14: =IF(ISERROR(CK14/CI14),"",(CK14/CI14)) | CM14: =IF(ISERROR(CN14/CL14),"",(CN14/CL14)) | CP14: =IF(ISERROR(CQ14/CO14),"",(CQ14/CO14)) | CS14: =IF(ISERROR(CT14/CR14),"",(CT14/CR14)) | CU14: =SUM(CH14,CK14,CN14,CQ14,CT14) -> 0 | CX14: =SUM(BE14,BH14,BK14,BN14,BQ14,BT14,BZ14,CD14,CH14,CK14,CN14,CQ14,CT14)*0.1 -> 0 | CY14: =CE14+CU14+CV14+CW14+CX14 -> 0 | EC14: =SUM(DC14,DF14,DI14,DL14,DO14,DR14,DU14,DX14,EB14) -> 0 | ES14: =SUM(EF14,EI14,EL14,EO14,ER14) -> 0 | EV14: =SUM(DC14,DF14,DI14,DL14,DO14,DR14,DX14,EB14,EF14,EI14,EL14,EO14,ER14)*0.1 -> 0 | EW14: =EC14+ES14+ET14+EU14+EV14 -> 0 | GA14: =SUM(FA14,FD14,FG14,FJ14,FM14,FP14,FS14,FV14,FZ14) -> 0 | GQ14: =SUM(GD14,GG14,GJ14,GM14,GP14) -> 0 | GT14: =SUM(FA14,FD14,FG14,FJ14,FM14,FP14,FV14,FZ14,GD14,GG14,GJ14,GM14,GP14)*0.1 -> 0 | GU14: =GA14+GQ14+GR14+GS14+GT14 -> 0 | HY14: =SUM(GY14,HB14,HE14,HH14,HK14,HN14,HQ14,HT14,HX14) -> 0 | IO14: =SUM(IB14,IE14,IH14,IK14,IN14) -> 0 | IR14: =SUM(GY14,HB14,HE14,HH14,HK14,HN14,HT14,HX14,IB14,IE14,IH14,IK14,IN14)*0.1 -> 0 | IS14: =HY14+IO14+IP14+IQ14+IR14 -> 0 | JW14: =SUM(IW14,IZ14,JC14,JF14,JI14,JL14,JO14,JR14,JV14) -> 0 | KM14: =SUM(JZ14,KC14,KF14,KI14,KL14) -> 0 | KP14: =SUM(IW14,IZ14,JC14,JF14,JI14,JL14,JR14,JV14,JZ14,KC14,KF14,KI14,KL14)*0.1 -> 0 | KQ14: =JW14+KM14+KN14+KO14+KP14 -> 0
C15: District Total | E15: =SUM(E7:E14) -> 1500 | F15: =G15/E15 -> 25 | G15: =SUM(G7:G14) -> 37500 | H15: =SUM(H7:H14) -> 4500 | I15: =IF(ISERROR(J15/H15),"",(J15/H15)) -> 21.444444 | J15: =SUM(J7:J14) -> 96500 | K15: =SUM(K7:K14) -> 1500 | L15: =IF(ISERROR(M15/K15),"",(M15/K15)) -> 30 | M15: =SUM(M7:M14) -> 45000 | N15: =SUM(N7:N14) -> 250 | O15: =IF(ISERROR(P15/N15),"",(P15/N15)) -> 4.8 | P15: =SUM(P7:P14) -> 1200 | Q15: =SUM(Q7:Q14) -> 1600 | R15: =IF(ISERROR(S15/Q15),"",(S15/Q15)) -> 97.5 | S15: =SUM(S7:S14) -> 156000 | T15: =SUM(T7:T14) -> 0 | U15: =IF(ISERROR(V15/T15),"",(V15/T15)) | V15: =SUM(V7:V14) -> 0 | W15: =SUM(W7:W14) -> 0 | X15: =SUM(X7:X14) -> 0 | Y15: =SUM(Y7:Y14) -> 0 | Z15: =SUM(Z7:Z14) -> 3668879 | AA15: =IF(ISERROR(AB15/Z15),"",(AB15/Z15)) -> 0.39510733 | AB15: =SUM(AB7:AB14) -> 1449601 | AC15: =SUM(AC7:AC14) -> 4600000 | AD15: =SUM(AD7:AD14) -> 0 | AE15: =IF(ISERROR(AF15/AD15),"",(AF15/AD15)) | AF15: =SUM(AF7:AF14) -> 0 | AG15: =SUM(AG7:AG14) -> 1785801 | AH15: =SUM(AH7:AH14) -> 0 | AI15: =IF(ISERROR(AJ15/AH15),"",(AJ15/AH15)) | AJ15: =SUM(AJ7:AJ14) -> 0 | AK15: =SUM(AK7:AK14) -> 0 | AL15: =IF(ISERROR(AM15/AK15),"",(AM15/AK15)) | AM15: =SUM(AM7:AM14) -> 0 | AN15: =SUM(AN7:AN14) -> 0 | AO15: =IF(ISERROR(AP15/AN15),"",(AP15/AN15)) | AP15: =SUM(AP7:AP14) -> 0 | AQ15: =SUM(AQ7:AQ14) -> 0 | AR15: =IF(ISERROR(AS15/AQ15),"",(AS15/AQ15)) | AS15: =SUM(AS7:AS14) -> 0 | AT15: =SUM(AT7:AT14) -> 0 | AU15: =IF(ISERROR(AV15/AT15),"0",(AV15/AT15)) -> 0 | AV15: =SUM(AV7:AV14) -> 0 | AW15: =SUM(AW7:AW14) -> 0 | AX15: =SUM(AX7:AX14) -> 0 | AY15: =SUM(AY7:AY14) -> 5000 | AZ15: =SUM(AZ7:AZ14) -> 178580.1 | BA15: =SUM(BA7:BA14) -> 1969381.1 | BC15: =SUM(BC7:BC14) -> 0 | BD15: =IF(ISERROR(BE15/BC15),"",(BE15/BC15)) | BE15: =SUM(BE7:BE14) -> 0 | BF15: =SUM(BF7:BF14) -> 5468 | BG15: =IF(ISERROR(BH15/BF15),"",(BH15/BF15)) -> 20.905267 | BH15: =SUM(BH7:BH14) -> 114310 | BI15: =SUM(BI7:BI14) -> 16000 | BJ15: =IF(ISERROR(BK15/BI15),"",(BK15/BI15)) -> 25 | BK15: =SUM(BK7:BK14) -> 400000 | BL15: =SUM(BL7:BL14) -> 3849 | BM15: =IF(ISERROR(BN15/BL15),"",(BN15/BL15)) -> 7.3029358 | BN15: =SUM(BN7:BN14) -> 28109 | BO15: =SUM(BO7:BO14) -> 3200 | BP15: =IF(ISERROR(BQ15/BO15),"",(BQ15/BO15)) -> 184.375 | BQ15: =SUM(BQ7:BQ14) -> 590000 | BR15: =SUM(BR7:BR14) -> 110 | BS15: =IF(ISERROR(BT15/BR15),"",(BT15/BR15)) -> 738 | BT15: =SUM(BT7:BT14) -> 81180 | BU15: =SUM(BU7:BU14) -> 0 | BV15: =SUM(BV7:BV14) -> 0 | BW15: =SUM(BW7:BW14) -> 0 | BX15: =SUM(BX7:BX14) -> 4754592 | BY15: =IF(ISERROR(BZ15/BX15),"",(BZ15/BX15)) -> 0.56052969 | BZ15: =SUM(BZ7:BZ14) -> 2665090 | CA15: =SUM(CA7:CA14) -> 4672080 | CB15: =SUM(CB7:CB14) -> 0 | CC15: =IF(ISERROR(CD15/CB15),"",(CD15/CB15)) | CD15: =SUM(CD7:CD14) -> 0 | CE15: =SUM(BE15,BH15,BK15,BN15,BQ15,BT15,BW15,BZ15,CD15) -> 3878689 | CF15: =SUM(CF7:CF14) -> 6392 | CG15: =IF(ISERROR(CH15/CF15),"",(CH15/CF15)) -> 36.839956 | CH15: =SUM(CH7:CH14) -> 235481 | CI15: =SUM(CI7:CI14) -> 0 | CJ15: =IF(ISERROR(CK15/CI15),"",(CK15/CI15)) | CK15: =SUM(CK7:CK14) -> 0 | CL15: =SUM(CL7:CL14) -> 1200 | CM15: =IF(ISERROR(CN15/CL15),"",(CN15/CL15)) -> 1205 | CN15: =SUM(CN7:CN14) -> 1446000 | CO15: =SUM(CO7:CO14) -> 1700 | CP15: =IF(ISERROR(CQ15/CO15),"",(CQ15/CO15)) -> 163 | CQ15: =SUM(CQ7:CQ14) -> 277100 | CR15: =SUM(CR7:CR14) -> 0 | CS15: =IF(ISERROR(CT15/CR15),"",(CT15/CR15)) | CT15: =SUM(CT7:CT14) -> 0 | CU15: =SUM(CH15,CK15,CN15,CQ15,CT15) -> 1958581 | CV15: =SUM(CV7:CV14) -> 0 | CW15: =SUM(CW7:CW14) -> 5000 | CX15: =SUM(CX7:CX14) -> 583726.7 | CY15: =CE15+CU15+CV15+CW15+CX15 -> 6425996.7 | DA15: =SUM(DA7:DA14) -> 0 | DC15: =SUM(DC7:DC14) -> 0 | DD15: =SUM(DD7:DD14) -> 8000 | DF15: =SUM(DF7:DF14) -> 185000 | DG15: =SUM(DG7:DG14) -> 10000 | DI15: =SUM(DI7:DI14) -> 300000 | DJ15: =SUM(DJ7:DJ14) -> 2700 | DL15: =SUM(DL7:DL14) -> 22500 | DM15: =SUM(DM7:DM14) -> 1550 | DO15: =SUM(DO7:DO14) -> 261420 | DP15: =SUM(DP7:DP14) -> 100 | DR15: =SUM(DR7:DR14) -> 76200 | DS15: =SUM(DS7:DS14) -> 0 | DT15: =SUM(DT7:DT14) -> 0 | DU15: =SUM(DU7:DU14) -> 0 | DV15: =SUM(DV7:DV14) -> 4600000 | DX15: =SUM(DX7:DX14) -> 2550000 | DY15: =SUM(DY7:DY14) -> 4500000 | DZ15: =SUM(DZ7:DZ14) -> 0 | EB15: =SUM(EB7:EB14) -> 0 | EC15: =SUM(DC15,DF15,DI15,DL15,DO15,DR15,DU15,DX15,EB15) -> 3395120 | ED15: =SUM(ED7:ED14) -> 5200 | EF15: =SUM(EF7:EF14) -> 200100 | EG15: =SUM(EG7:EG14) -> 0 | EI15: =SUM(EI7:EI14) -> 0 | EJ15: =SUM(EJ7:EJ14) -> 1050 | EL15: =SUM(EL7:EL14) -> 1273500 | EM15: =SUM(EM7:EM14) -> 1700 | EO15: =SUM(EO7:EO14) -> 277100 | EP15: =SUM(EP7:EP14) -> 0 | ER15: =SUM(ER7:ER14) -> 0 | ES15: =SUM(EF15,EI15,EL15,EO15,ER15) -> 1750700 | ET15: =SUM(ET7:ET14) -> 0 | EU15: =SUM(EU7:EU14) -> 5000 | EV15: =SUM(EV7:EV14) -> 514582 | EW15: =EC15+ES15+ET15+EU15+EV15 -> 5665402 | EY15: =SUM(EY7:EY14) -> 0 | FA15: =SUM(FA7:FA14) -> 0 | FB15: =SUM(FB7:FB14) -> 7000 | FD15: =SUM(FD7:FD14) -> 165000 | FE15: =SUM(FE7:FE14) -> 5000 | FG15: =SUM(FG7:FG14) -> 125000 | FH15: =SUM(FH7:FH14) -> 2122 | FJ15: =SUM(FJ7:FJ14) -> 24330 | FK15: =SUM(FK7:FK14) -> 1250 | FM15: =SUM(FM7:FM14) -> 237500 | FN15: =SUM(FN7:FN14) -> 243 | FP15: =SUM(FP7:FP14) -> 203195 | FQ15: =SUM(FQ7:FQ14) -> 0 | FR15: =SUM(FR7:FR14) -> 0 | FS15: =SUM(FS7:FS14) -> 0 | FT15: =SUM(FT7:FT14) -> 4672080 | FV15: =SUM(FV7:FV14) -> 2647702 | FW15: =SUM(FW7:FW14) -> 4500000 | FX15: =SUM(FX7:FX14) -> 0 | FZ15: =SUM(FZ7:FZ14) -> 0 | GA15: =SUM(FA15,FD15,FG15,FJ15,FM15,FP15,FS15,FV15,FZ15) -> 3402727 | GB15: =SUM(GB7:GB14) -> 5200 | GD15: =SUM(GD7:GD14) -> 200100 | GE15: =SUM(GE7:GE14) -> 0 | GG15: =SUM(GG7:GG14) -> 0 | GH15: =SUM(GH7:GH14) -> 1050 | GJ15: =SUM(GJ7:GJ14) -> 1273500 | GK15: =SUM(GK7:GK14) -> 1700 | GM15: =SUM(GM7:GM14) -> 277100 | GN15: =SUM(GN7:GN14) -> 0 | GP15: =SUM(GP7:GP14) -> 0 | GQ15: =SUM(GD15,GG15,GJ15,GM15,GP15) -> 1750700 | GR15: =SUM(GR7:GR14) -> 0 | GS15: =SUM(GS7:GS14) -> 5000 | GT15: =SUM(GT7:GT14) -> 515342.7 | GU15: =GA15+GQ15+GR15+GS15+GT15 -> 5673769.7 | GW15: =SUM(GW7:GW14) -> 0 | GY15: =SUM(GY7:GY14) -> 0 | GZ15: =SUM(GZ7:GZ14) -> 6500 | HB15: =SUM(HB7:HB14) -> 155000 | HC15: =SUM(HC7:HC14) -> 9000 | HE15: =SUM(HE7:HE14) -> 270000 | HF15: =SUM(HF7:HF14) -> 3000 | HH15: =SUM(HH7:HH14) -> 35000 | HI15: =SUM(HI7:HI14) -> 650 | HK15: =SUM(HK7:HK14) -> 149000 | HL15: =SUM(HL7:HL14) -> 100 | HN15: =SUM(HN7:HN14) -> 76200 | HO15: =SUM(HO7:HO14) -> 0 | HP15: =SUM(HP7:HP14) -> 0 | HQ15: =SUM(HQ7:HQ14) -> 0 | HR15: =SUM(HR7:HR14) -> 4500000 | HT15: =SUM(HT7:HT14) -> 2530000 | HU15: =SUM(HU7:HU14) -> 4500000 | HV15: =SUM(HV7:HV14) -> 0 | HX15: =SUM(HX7:HX14) -> 0 | HY15: =SUM(GY15,HB15,HE15,HH15,HK15,HN15,HQ15,HT15,HX15) -> 3215200 | HZ15: =SUM(HZ7:HZ14) -> 5200 | IB15: =SUM(IB7:IB14) -> 200100 | IC15: =SUM(IC7:IC14) -> 0 | IE15: =SUM(IE7:IE14) -> 0 | IF15: =SUM(IF7:IF14) -> 1050 | IH15: =SUM(IH7:IH14) -> 1273500 | II15: =SUM(II7:II14) -> 1700 | IK15: =SUM(IK7:IK14) -> 277100 | IL15: =SUM(IL7:IL14) -> 0 | IN15: =SUM(IN7:IN14) -> 0 | IO15: =SUM(IB15,IE15,IH15,IK15,IN15) -> 1750700 | IP15: =SUM(IP7:IP14) -> 0 | IQ15: =SUM(IQ7:IQ14) -> 5000 | IR15: =SUM(IR7:IR14) -> 496590 | IS15: =HY15+IO15+IP15+IQ15+IR15 -> 5467490 | IU15: =SUM(IU7:IU14) -> 0 | IW15: =SUM(IW7:IW14) -> 0 | IX15: =SUM(IX7:IX14) -> 6500 | IZ15: =SUM(IZ7:IZ14) -> 155000 | JA15: =SUM(JA7:JA14) -> 9000 | JC15: =SUM(JC7:JC14) -> 270000 | JD15: =SUM(JD7:JD14) -> 3000 | JF15: =SUM(JF7:JF14) -> 35000 | JG15: =SUM(JG7:JG14) -> 650 | JI15: =SUM(JI7:JI14) -> 149000 | JJ15: =SUM(JJ7:JJ14) -> 100 | JL15: =SUM(JL7:JL14) -> 76200 | JM15: =SUM(JM7:JM14) -> 0 | JN15: =SUM(JN7:JN14) -> 0 | JO15: =SUM(JO7:JO14) -> 0 | JP15: =SUM(JP7:JP14) -> 4500000 | JR15: =SUM(JR7:JR14) -> 2530000 | JS15: =SUM(JS7:JS14) -> 4500000 | JT15: =SUM(JT7:JT14) -> 0 | JV15: =SUM(JV7:JV14) -> 0 | JW15: =SUM(IW15,IZ15,JC15,JF15,JI15,JL15,JO15,JR15,JV15) -> 3215200 | JX15: =SUM(JX7:JX14) -> 5200 | JZ15: =SUM(JZ7:JZ14) -> 200100 | KA15: =SUM(KA7:KA14) -> 0 | KC15: =SUM(KC7:KC14) -> 0 | KD15: =SUM(KD7:KD14) -> 1050 | KF15: =SUM(KF7:KF14) -> 1273500 | KG15: =SUM(KG7:KG14) -> 1700 | KI15: =SUM(KI7:KI14) -> 277100 | KJ15: =SUM(KJ7:KJ14) -> 0 | KL15: =SUM(KL7:KL14) -> 0 | KM15: =SUM(JZ15,KC15,KF15,KI15,KL15) -> 1750700 | KN15: =SUM(KN7:KN14) -> 0 | KO15: =SUM(KO7:KO14) -> 5000 | KP15: =SUM(KP7:KP14) -> 496590 | KQ15: =JW15+KM15+KN15+KO15+KP15 -> 5467490
C16: Quesnel | D16: District | F16: =IF(ISERROR(G16/E16),"",(G16/E16)) | H16: 800 | I16: =IF(ISERROR(J16/H16),"",(J16/H16)) -> 25 | J16: 20000 | L16: =IF(ISERROR(M16/K16),"",(M16/K16)) | O16: =IF(ISERROR(P16/N16),"",(P16/N16)) | R16: =IF(ISERROR(S16/Q16),"",(S16/Q16)) | U16: =IF(ISERROR(V16/T16),"",(V16/T16)) | Z16: 1000000 | AA16: =IF(ISERROR(AB16/Z16),"",(AB16/Z16)) -> 0.33 | AB16: 330000 | AC16: 500000 | AE16: =IF(ISERROR(AF16/AD16),"",(AF16/AD16)) | AG16: =SUM(G16,J16,M16,P16,S16,V16,AB16,AF16) -> 350000 | AI16: =IF(ISERROR(AJ16/AH16),"",(AJ16/AH16)) | AL16: =IF(ISERROR(AM16/AK16),"",(AM16/AK16)) | AO16: =IF(ISERROR(AP16/AN16),"",(AP16/AN16)) | AR16: =IF(ISERROR(AS16/AQ16),"",(AS16/AQ16)) | AU16: =IF(ISERROR(AV16/AT16),"0",(AV16/AT16)) -> 0 | AW16: =SUM(AJ16,AM16,AP16,AS16,AV16) -> 0 | AY16: 5000 | AZ16: =SUM(G16,J16,M16,P16,S16,V16,AB16,AF16,AJ16,AM16,AP16,AV16,AS16,AX16)*0.1 -> 35000 | BA16: =AG16+AW16+AX16+AY16+AZ16 -> 390000 | BD16: =IF(ISERROR(BE16/BC16),"",(BE16/BC16)) | BF16: 1000 | BG16: 25 | BH16: 25000 | BJ16: =IF(ISERROR(BK16/BI16),"",(BK16/BI16)) | BL16: 2800 | BM16: 25 | BN16: 70000 | BP16: =IF(ISERROR(BQ16/BO16),"",(BQ16/BO16)) | BS16: =IF(ISERROR(BT16/BR16),"",(BT16/BR16)) | BX16: 1532000 | BY16: =IF(ISERROR(BZ16/BX16),"",(BZ16/BX16)) -> 0.27415144 | BZ16: 420000 | CC16: =IF(ISERROR(CD16/CB16),"",(CD16/CB16)) | CE16: =SUM(BE16,BH16,BK16,BN16,BQ16,BT16,BW16,BZ16,CD16) -> 515000 | CG16: =IF(ISERROR(CH16/CF16),"",(CH16/CF16)) | CJ16: =IF(ISERROR(CK16/CI16),"",(CK16/CI16)) | CL16: 170 | CM16: 1298 | CN16: 220660 | CO16: 1850 | CP16: 163 | CQ16: 301550 | CS16: =IF(ISERROR(CT16/CR16),"",(CT16/CR16)) | CU16: =SUM(CH16,CK16,CN16,CQ16,CT16) -> 522210 | CW16: 5000 | CX16: =SUM(BE16,BH16,BK16,BN16,BQ16,BT16,BZ16,CD16,CH16,CK16,CN16,CQ16,CT16)*0.1 -> 103721 | CY16: =CE16+CU16+CV16+CW16+CX16 -> 1145931 | DD16: 12500 | DE16: 25 | DF16: 162500 | DJ16: 800 | DK16: 25 | DL16: 20000 | DV16: 500000 | DX16: 165000 | DY16: 1000000 | EC16: =SUM(DC16,DF16,DI16,DL16,DO16,DR16,DU16,DX16,EB16) -> 347500 | EJ16: 170 | EK16: 1298 | EL16: 220660 | EM16: 1850 | EN16: 163 | EO16: 301550 | ES16: =SUM(EF16,EI16,EL16,EO16,ER16) -> 522210 | EU16: 5000 | EV16: =SUM(DC16,DF16,DI16,DL16,DO16,DR16,DX16,EB16,EF16,EI16,EL16,EO16,ER16)*0.1 -> 86971 | EW16: =EC16+ES16+ET16+EU16+EV16 -> 961681 | FB16: 2000 | FC16: 25 | FD16: 50000 | FH16: 1960 | FI16: 25 | FJ16: 49000 | FW16: 800000 | GA16: =SUM(FA16,FD16,FG16,FJ16,FM16,FP16,FS16,FV16,FZ16) -> 99000 | GH16: 170 | GI16: 1298 | GJ16: 220660 | GK16: 1850 | GL16: 163 | GM16: 301550 | GQ16: =SUM(GD16,GG16,GJ16,GM16,GP16) -> 522210 | GS16: 5000 | GT16: =SUM(FA16,FD16,FG16,FJ16,FM16,FP16,FV16,FZ16,GD16,GG16,GJ16,GM16,GP16)*0.1 -> 62121 | GU16: =GA16+GQ16+GR16+GS16+GT16 -> 688331 | GZ16: 800 | HA16: 25 | HB16: 20000 | HF16: 1000 | HG16: 25 | HH16: 25000 | HR16: 1000000 | HT16: 430080 | HU16: 500000 | HV16: 500 | HW16: 250 | HX16: 125000 | HY16: =SUM(GY16,HB16,HE16,HH16,HK16,HN16,HQ16,HT16,HX16) -> 600080 | IF16: 170 | IG16: 1298 | IH16: 220660 | II16: 1850 | IJ16: 163 | IK16: 301550 | IO16: =SUM(IB16,IE16,IH16,IK16,IN16) -> 522210 | IQ16: 5000 | IR16: =SUM(GY16,HB16,HE16,HH16,HK16,HN16,HT16,HX16,IB16,IE16,IH16,IK16,IN16)*0.1 -> 112229 | IS16: =HY16+IO16+IP16+IQ16+IR16 -> 1239519 | IX16: 800 | IY16: 25 | IZ16: 20000 | JD16: 1460 | JE16: 25 | JF16: 36500 | JP16: 800000 | JR16: 358400 | JS16: 500000 | JT16: 300 | JU16: 250 | JV16: 75000 | JW16: =SUM(IW16,IZ16,JC16,JF16,JI16,JL16,JO16,JR16,JV16) -> 489900 | KD16: 170 | KE16: 1298 | KF16: 220660 | KG16: 1850 | KH16: 163 | KI16: 301550 | KM16: =SUM(JZ16,KC16,KF16,KI16,KL16) -> 522210 | KO16: 5000 | KP16: =SUM(IW16,IZ16,JC16,JF16,JI16,JL16,JR16,JV16,JZ16,KC16,KF16,KI16,KL16)*0.1 -> 101211 | KQ16: =JW16+KM16+KN16+KO16+KP16 -> 1118321
D17: BCTS | F17: =IF(ISERROR(G17/E17),"",(G17/E17)) | H17: 2400 | I17: =IF(ISERROR(J17/H17),"",(J17/H17)) -> 20 | J17: 48000 | L17: =IF(ISERROR(M17/K17),"",(M17/K17)) | N17: 1400 | O17: =IF(ISERROR(P17/N17),"",(P17/N17)) -> 26.714286 | P17: 37400 | Q17: 400 | R17: =IF(ISERROR(S17/Q17),"",(S17/Q17)) -> 408 | S17: 163200 | U17: =IF(ISERROR(V17/T17),"",(V17/T17)) | Z17: 2128000 | AA17: =IF(ISERROR(AB17/Z17),"",(AB17/Z17)) -> 0.4 | AB17: 851200 | AC17: 2000000 | AE17: =IF(ISERROR(AF17/AD17),"",(AF17/AD17)) | AG17: =SUM(G17,J17,M17,P17,S17,V17,AB17,AF17) -> 1099800 | AI17: =IF(ISERROR(AJ17/AH17),"",(AJ17/AH17)) | AL17: =IF(ISERROR(AM17/AK17),"",(AM17/AK17)) | AO17: =IF(ISERROR(AP17/AN17),"",(AP17/AN17)) | AR17: =IF(ISERROR(AS17/AQ17),"",(AS17/AQ17)) | AU17: =IF(ISERROR(AV17/AT17),"0",(AV17/AT17)) -> 0 | AW17: =SUM(AJ17,AM17,AP17,AS17,AV17) -> 0 | AZ17: =SUM(G17,J17,M17,P17,S17,V17,AB17,AF17,AJ17,AM17,AP17,AV17,AS17,AX17)*0.1 -> 109980 | BA17: =AG17+AW17+AX17+AY17+AZ17 -> 1209780 | BD17: =IF(ISERROR(BE17/BC17),"",(BE17/BC17)) | BF17: 2500 | BG17: 20 | BH17: 50000 | BJ17: =IF(ISERROR(BK17/BI17),"",(BK17/BI17)) | BL17: 1600 | BM17: 25 | BN17: 40000 | BO17: 800 | BP17: 360 | BQ17: 288000 | BS17: =IF(ISERROR(BT17/BR17),"",(BT17/BR17)) | BX17: 1500000 | BY17: 0.42 | BZ17: 630000 | CA17: 1500000 | CC17: =IF(ISERROR(CD17/CB17),"",(CD17/CB17)) | CE17: =SUM(BE17,BH17,BK17,BN17,BQ17,BT17,BW17,BZ17,CD17) -> 1008000 | CG17: =IF(ISERROR(CH17/CF17),"",(CH17/CF17)) | CJ17: =IF(ISERROR(CK17/CI17),"",(CK17/CI17)) | CM17: =IF(ISERROR(CN17/CL17),"",(CN17/CL17)) | CP17: =IF(ISERROR(CQ17/CO17),"",(CQ17/CO17)) | CS17: =IF(ISERROR(CT17/CR17),"",(CT17/CR17)) | CU17: =SUM(CH17,CK17,CN17,CQ17,CT17) -> 0 | CX17: =SUM(BE17,BH17,BK17,BN17,BQ17,BT17,BZ17,CD17,CH17,CK17,CN17,CQ17,CT17)*0.1 -> 100800 | CY17: =CE17+CU17+CV17+CW17+CX17 -> 1108800 | DD17: 2500 | DE17: 20 | DF17: 50000 | DJ17: 1600 | DK17: 25 | DL17: 40000 | DM17: 800 | DN17: 360 | DO17: 288000 | DV17: 1500000 | DW17: 0.42 | DX17: 630000 | DY17: 1500000 | EC17: =SUM(DC17,DF17,DI17,DL17,DO17,DR17,DU17,DX17,EB17) -> 1008000 | ES17: =SUM(EF17,EI17,EL17,EO17,ER17) -> 0 | EV17: =SUM(DC17,DF17,DI17,DL17,DO17,DR17,DX17,EB17,EF17,EI17,EL17,EO17,ER17)*0.1 -> 100800 | EW17: =EC17+ES17+ET17+EU17+EV17 -> 1108800 | FB17: 2500 | FC17: 20 | FD17: 50000 | FH17: 1600 | FI17: 25 | FJ17: 40000 | FK17: 800 | FL17: 360 | FM17: 288000 | FN17: 250 | FO17: 660 | FP17: 165000 | FT17: 1500000 | FU17: 0.42 | FV17: 630000 | FW17: 1500000 | GA17: =SUM(FA17,FD17,FG17,FJ17,FM17,FP17,FS17,FV17,FZ17) -> 1173000 | GQ17: =SUM(GD17,GG17,GJ17,GM17,GP17) -> 0 | GT17: =SUM(FA17,FD17,FG17,FJ17,FM17,FP17,FV17,FZ17,GD17,GG17,GJ17,GM17,GP17)*0.1 -> 117300 | GU17: =GA17+GQ17+GR17+GS17+GT17 -> 1290300 | GZ17: 2500 | HA17: 20 | HB17: 50000 | HF17: 1600 | HG17: 25 | HH17: 40000 | HI17: 800 | HJ17: 360 | HK17: 288000 | HL17: 250 | HM17: 660 | HN17: 165000 | HR17: 1500000 | HS17: 0.42 | HT17: 630000 | HU17: 1500000 | HY17: =SUM(GY17,HB17,HE17,HH17,HK17,HN17,HQ17,HT17,HX17) -> 1173000 | IO17: =SUM(IB17,IE17,IH17,IK17,IN17) -> 0 | IR17: =SUM(GY17,HB17,HE17,HH17,HK17,HN17,HT17,HX17,IB17,IE17,IH17,IK17,IN17)*0.1 -> 117300 | IS17: =HY17+IO17+IP17+IQ17+IR17 -> 1290300 | IX17: 2500 | IY17: 20 | IZ17: 50000 | JD17: 1600 | JE17: 25 | JF17: 40000 | JG17: 800 | JH17: 360 | JI17: 288000 | JJ17: 250 | JK17: 660 | JL17: 165000 | JP17: 1500000 | JR17: 630000 | JS17: 1500000 | JW17: =SUM(IW17,IZ17,JC17,JF17,JI17,JL17,JO17,JR17,JV17) -> 1173000 | KM17: =SUM(JZ17,KC17,KF17,KI17,KL17) -> 0 | KP17: =SUM(IW17,IZ17,JC17,JF17,JI17,JL17,JR17,JV17,JZ17,KC17,KF17,KI17,KL17)*0.1 -> 117300 | KQ17: =JW17+KM17+KN17+KO17+KP17 -> 1290300
D18: Recipient | F18: =IF(ISERROR(G18/E18),"",(G18/E18)) | I18: =IF(ISERROR(J18/H18),"",(J18/H18)) | L18: =IF(ISERROR(M18/K18),"",(M18/K18)) | O18: =IF(ISERROR(P18/N18),"",(P18/N18)) | R18: =IF(ISERROR(S18/Q18),"",(S18/Q18)) | U18: =IF(ISERROR(V18/T18),"",(V18/T18)) | AA18: =IF(ISERROR(AB18/Z18),"",(AB18/Z18)) | AE18: =IF(ISERROR(AF18/AD18),"",(AF18/AD18)) | AG18: =SUM(G18,J18,M18,P18,S18,V18,AB18,AF18) -> 0 | AI18: =IF(ISERROR(AJ18/AH18),"",(AJ18/AH18)) | AL18: =IF(ISERROR(AM18/AK18),"",(AM18/AK18)) | AO18: =IF(ISERROR(AP18/AN18),"",(AP18/AN18)) | AR18: =IF(ISERROR(AS18/AQ18),"",(AS18/AQ18)) | AU18: =IF(ISERROR(AV18/AT18),"0",(AV18/AT18)) -> 0 | AW18: =SUM(AJ18,AM18,AP18,AS18,AV18) -> 0 | AZ18: =SUM(G18,J18,M18,P18,S18,V18,AB18,AF18,AJ18,AM18,AP18,AV18,AS18,AX18)*0.1 -> 0 | BA18: =AG18+AW18+AX18+AY18+AZ18 -> 0 | BD18: =IF(ISERROR(BE18/BC18),"",(BE18/BC18)) | BG18: =IF(ISERROR(BH18/BF18),"",(BH18/BF18)) | BJ18: =IF(ISERROR(BK18/BI18),"",(BK18/BI18)) | BM18: =IF(ISERROR(BN18/BL18),"",(BN18/BL18)) | BP18: =IF(ISERROR(BQ18/BO18),"",(BQ18/BO18)) | BS18: =IF(ISERROR(BT18/BR18),"",(BT18/BR18)) | BY18: =IF(ISERROR(BZ18/BX18),"",(BZ18/BX18)) | CC18: =IF(ISERROR(CD18/CB18),"",(CD18/CB18)) | CE18: =SUM(BE18,BH18,BK18,BN18,BQ18,BT18,BW18,BZ18,CD18) -> 0 | CG18: =IF(ISERROR(CH18/CF18),"",(CH18/CF18)) | CJ18: =IF(ISERROR(CK18/CI18),"",(CK18/CI18)) | CM18: =IF(ISERROR(CN18/CL18),"",(CN18/CL18)) | CP18: =IF(ISERROR(CQ18/CO18),"",(CQ18/CO18)) | CS18: =IF(ISERROR(CT18/CR18),"",(CT18/CR18)) | CU18: =SUM(CH18,CK18,CN18,CQ18,CT18) -> 0 | CX18: =SUM(BE18,BH18,BK18,BN18,BQ18,BT18,BZ18,CD18,CH18,CK18,CN18,CQ18,CT18)*0.1 -> 0 | CY18: =CE18+CU18+CV18+CW18+CX18 -> 0 | EC18: =SUM(DC18,DF18,DI18,DL18,DO18,DR18,DU18,DX18,EB18) -> 0 | ES18: =SUM(EF18,EI18,EL18,EO18,ER18) -> 0 | EV18: =SUM(DC18,DF18,DI18,DL18,DO18,DR18,DX18,EB18,EF18,EI18,EL18,EO18,ER18)*0.1 -> 0 | EW18: =EC18+ES18+ET18+EU18+EV18 -> 0 | GA18: =SUM(FA18,FD18,FG18,FJ18,FM18,FP18,FS18,FV18,FZ18) -> 0 | GQ18: =SUM(GD18,GG18,GJ18,GM18,GP18) -> 0 | GT18: =SUM(FA18,FD18,FG18,FJ18,FM18,FP18,FV18,FZ18,GD18,GG18,GJ18,GM18,GP18)*0.1 -> 0 | GU18: =GA18+GQ18+GR18+GS18+GT18 -> 0 | HY18: =SUM(GY18,HB18,HE18,HH18,HK18,HN18,HQ18,HT18,HX18) -> 0 | IO18: =SUM(IB18,IE18,IH18,IK18,IN18) -> 0 | IR18: =SUM(GY18,HB18,HE18,HH18,HK18,HN18,HT18,HX18,IB18,IE18,IH18,IK18,IN18)*0.1 -> 0 | IS18: =HY18+IO18+IP18+IQ18+IR18 -> 0 | JW18: =SUM(IW18,IZ18,JC18,JF18,JI18,JL18,JO18,JR18,JV18) -> 0 | KM18: =SUM(JZ18,KC18,KF18,KI18,KL18) -> 0 | KP18: =SUM(IW18,IZ18,JC18,JF18,JI18,JL18,JR18,JV18,JZ18,KC18,KF18,KI18,KL18)*0.1 -> 0 | KQ18: =JW18+KM18+KN18+KO18+KP18 -> 0
D19: TFL 52 | F19: =IF(ISERROR(G19/E19),"",(G19/E19)) | I19: =IF(ISERROR(J19/H19),"",(J19/H19)) | L19: =IF(ISERROR(M19/K19),"",(M19/K19)) | O19: =IF(ISERROR(P19/N19),"",(P19/N19)) | R19: =IF(ISERROR(S19/Q19),"",(S19/Q19)) | U19: =IF(ISERROR(V19/T19),"",(V19/T19)) | AA19: =IF(ISERROR(AB19/Z19),"",(AB19/Z19)) | AE19: =IF(ISERROR(AF19/AD19),"",(AF19/AD19)) | AG19: =SUM(G19,J19,M19,P19,S19,V19,AB19,AF19) -> 0 | AU19: =IF(ISERROR(AV19/AT19),"0",(AV19/AT19)) -> 0 | AW19: =SUM(AJ19,AM19,AP19,AS19,AV19) -> 0 | AZ19: =SUM(G19,J19,M19,P19,S19,V19,AB19,AF19,AJ19,AM19,AP19,AV19,AS19,AX19)*0.1 -> 0 | BA19: =AG19+AW19+AX19+AY19+AZ19 -> 0 | BD19: =IF(ISERROR(BE19/BC19),"",(BE19/BC19)) | BG19: =IF(ISERROR(BH19/BF19),"",(BH19/BF19)) | BJ19: =IF(ISERROR(BK19/BI19),"",(BK19/BI19)) | BM19: =IF(ISERROR(BN19/BL19),"",(BN19/BL19)) | BP19: =IF(ISERROR(BQ19/BO19),"",(BQ19/BO19)) | BS19: =IF(ISERROR(BT19/BR19),"",(BT19/BR19)) | BY19: =IF(ISERROR(BZ19/BX19),"",(BZ19/BX19)) | CC19: =IF(ISERROR(CD19/CB19),"",(CD19/CB19)) | CE19: =SUM(BE19,BH19,BK19,BN19,BQ19,BT19,BW19,BZ19,CD19) -> 0 | CF19: 500 | CG19: =IF(ISERROR(CH19/CF19),"",(CH19/CF19)) -> 24 | CH19: 12000 | CJ19: =IF(ISERROR(CK19/CI19),"",(CK19/CI19)) | CM19: =IF(ISERROR(CN19/CL19),"",(CN19/CL19)) | CO19: 3000 | CP19: =IF(ISERROR(CQ19/CO19),"",(CQ19/CO19)) -> 159 | CQ19: 477000 | CS19: =IF(ISERROR(CT19/CR19),"",(CT19/CR19)) | CU19: =SUM(CH19,CK19,CN19,CQ19,CT19) -> 489000 | CX19: =SUM(BE19,BH19,BK19,BN19,BQ19,BT19,BZ19,CD19,CH19,CK19,CN19,CQ19,CT19)*0.1 -> 48900 | CY19: =CE19+CU19+CV19+CW19+CX19 -> 537900 | EC19: =SUM(DC19,DF19,DI19,DL19,DO19,DR19,DU19,DX19,EB19) -> 0 | ED19: 500 | EF19: 12000 | EM19: 3000 | EO19: 477000 | ES19: =SUM(EF19,EI19,EL19,EO19,ER19) -> 489000 | EV19: =SUM(DC19,DF19,DI19,DL19,DO19,DR19,DX19,EB19,EF19,EI19,EL19,EO19,ER19)*0.1 -> 48900 | EW19: =EC19+ES19+ET19+EU19+EV19 -> 537900 | GA19: =SUM(FA19,FD19,FG19,FJ19,FM19,FP19,FS19,FV19,FZ19) -> 0 | GB19: 500 | GD19: 12000 | GK19: 3000 | GM19: 477000 | GQ19: =SUM(GD19,GG19,GJ19,GM19,GP19) -> 489000 | GT19: =SUM(FA19,FD19,FG19,FJ19,FM19,FP19,FV19,FZ19,GD19,GG19,GJ19,GM19,GP19)*0.1 -> 48900 | GU19: =GA19+GQ19+GR19+GS19+GT19 -> 537900 | HY19: =SUM(GY19,HB19,HE19,HH19,HK19,HN19,HQ19,HT19,HX19) -> 0 | HZ19: 500 | IB19: 12000 | II19: 3000 | IK19: 477000 | IO19: =SUM(IB19,IE19,IH19,IK19,IN19) -> 489000 | IR19: =SUM(GY19,HB19,HE19,HH19,HK19,HN19,HT19,HX19,IB19,IE19,IH19,IK19,IN19)*0.1 -> 48900 | IS19: =HY19+IO19+IP19+IQ19+IR19 -> 537900 | IT19: Fert in all years will be split between the TSA and TFL | JW19: =SUM(IW19,IZ19,JC19,JF19,JI19,JL19,JO19,JR19,JV19) -> 0 | JX19: 500 | JZ19: 12000 | KG19: 3000 | KI19: 477000 | KM19: =SUM(JZ19,KC19,KF19,KI19,KL19) -> 489000 | KP19: =SUM(IW19,IZ19,JC19,JF19,JI19,JL19,JR19,JV19,JZ19,KC19,KF19,KI19,KL19)*0.1 -> 48900 | KQ19: =JW19+KM19+KN19+KO19+KP19 -> 537900 | KR19: Fert in all years will be split between the TSA and TFL
C20: District Total | E20: =SUM(E16:E19) -> 0 | F20: =IF(ISERROR(G20/E20),"",(G20/E20)) | G20: =SUM(G16:G19) -> 0 | H20: =SUM(H16:H19) -> 3200 | I20: =IF(ISERROR(J20/H20),"",(J20/H20)) -> 21.25 | J20: =SUM(J16:J19) -> 68000 | K20: =SUM(K16:K19) -> 0 | L20: =IF(ISERROR(M20/K20),"",(M20/K20)) | M20: =SUM(M16:M19) -> 0 | N20: =SUM(N16:N19) -> 1400 | O20: =IF(ISERROR(P20/N20),"",(P20/N20)) -> 26.714286 | P20: =SUM(P16:P19) -> 37400 | Q20: =SUM(Q16:Q19) -> 400 | R20: =IF(ISERROR(S20/Q20),"",(S20/Q20)) -> 408 | S20: =SUM(S16:S19) -> 163200 | T20: =SUM(T16:T19) -> 0 | U20: =IF(ISERROR(V20/T20),"",(V20/T20)) | V20: =SUM(V16:V19) -> 0 | W20: =SUM(W16:W19) -> 0 | X20: =SUM(X16:X19) -> 0 | Y20: =SUM(Y16:Y19) -> 0 | Z20: =SUM(Z16:Z19) -> 3128000 | AA20: =IF(ISERROR(AB20/Z20),"",(AB20/Z20)) -> 0.37762148 | AB20: =SUM(AB16:AB19) -> 1181200 | AC20: =SUM(AC16:AC19) -> 2500000 | AD20: =SUM(AD16:AD19) -> 0 | AE20: =IF(ISERROR(AF20/AD20),"",(AF20/AD20)) | AF20: =SUM(AF16:AF19) -> 0 | AG20: =SUM(AG16:AG19) -> 1449800 | AH20: =SUM(AH16:AH19) -> 0 | AI20: =IF(ISERROR(AJ20/AH20),"",(AJ20/AH20)) | AJ20: =SUM(AJ16:AJ19) -> 0 | AK20: =SUM(AK16:AK19) -> 0 | AL20: =IF(ISERROR(AM20/AK20),"",(AM20/AK20)) | AM20: =SUM(AM16:AM19) -> 0 | AN20: =SUM(AN16:AN19) -> 0 | AO20: =IF(ISERROR(AP20/AN20),"",(AP20/AN20)) | AP20: =SUM(AP16:AP19) -> 0 | AQ20: =SUM(AQ16:AQ19) -> 0 | AR20: =IF(ISERROR(AS20/AQ20),"",(AS20/AQ20)) | AS20: =SUM(AS16:AS19) -> 0 | AT20: =SUM(AT16:AT19) -> 0 | AU20: =IF(ISERROR(AV20/AT20),"0",(AV20/AT20)) -> 0 | AV20: =SUM(AV16:AV19) -> 0 | AW20: =SUM(AW16:AW19) -> 0 | AX20: =SUM(AX16:AX19) -> 0 | AY20: =SUM(AY16:AY19) -> 5000 | AZ20: =SUM(AZ16:AZ19) -> 144980 | BA20: =SUM(BA16:BA19) -> 1599780 | BC20: =SUM(BC16:BC19) -> 0 | BD20: =IF(ISERROR(BE20/BC20),"",(BE20/BC20)) | BE20: =SUM(BE16:BE19) -> 0 | BF20: =SUM(BF16:BF19) -> 3500 | BG20: =IF(ISERROR(BH20/BF20),"",(BH20/BF20)) -> 21.428571 | BH20: =SUM(BH16:BH19) -> 75000 | BI20: =SUM(BI16:BI19) -> 0 | BJ20: =IF(ISERROR(BK20/BI20),"",(BK20/BI20)) | BK20: =SUM(BK16:BK19) -> 0 | BL20: =SUM(BL16:BL19) -> 4400 | BM20: =IF(ISERROR(BN20/BL20),"",(BN20/BL20)) -> 25 | BN20: =SUM(BN16:BN19) -> 110000 | BO20: =SUM(BO16:BO19) -> 800 | BP20: =IF(ISERROR(BQ20/BO20),"",(BQ20/BO20)) -> 360 | BQ20: =SUM(BQ16:BQ19) -> 288000 | BR20: =SUM(BR16:BR19) -> 0 | BS20: =IF(ISERROR(BT20/BR20),"",(BT20/BR20)) | BT20: =SUM(BT16:BT19) -> 0 | BU20: =SUM(BU16:BU19) -> 0 | BV20: =SUM(BV16:BV19) -> 0 | BW20: =SUM(BW16:BW19) -> 0 | BX20: =SUM(BX16:BX19) -> 3032000 | BY20: =IF(ISERROR(BZ20/BX20),"",(BZ20/BX20)) -> 0.34630607 | BZ20: =SUM(BZ16:BZ19) -> 1050000 | CA20: =SUM(CA16:CA19) -> 1500000 | CB20: =SUM(CB16:CB19) -> 0 | CC20: =IF(ISERROR(CD20/CB20),"",(CD20/CB20)) | CD20: =SUM(CD16:CD19) -> 0 | CE20: =SUM(BE20,BH20,BK20,BN20,BQ20,BT20,BW20,BZ20,CD20) -> 1523000 | CF20: =SUM(CF16:CF19) -> 500 | CG20: =IF(ISERROR(CH20/CF20),"",(CH20/CF20)) -> 24 | CH20: =SUM(CH16:CH19) -> 12000 | CI20: =SUM(CI16:CI19) -> 0 | CJ20: =IF(ISERROR(CK20/CI20),"",(CK20/CI20)) | CK20: =SUM(CK16:CK19) -> 0 | CL20: =SUM(CL16:CL19) -> 170 | CM20: =IF(ISERROR(CN20/CL20),"",(CN20/CL20)) -> 1298 | CN20: =SUM(CN16:CN19) -> 220660 | CO20: =SUM(CO16:CO19) -> 4850 | CP20: =IF(ISERROR(CQ20/CO20),"",(CQ20/CO20)) -> 160.52577 | CQ20: =SUM(CQ16:CQ19) -> 778550 | CR20: =SUM(CR16:CR19) -> 0 | CS20: =IF(ISERROR(CT20/CR20),"",(CT20/CR20)) | CT20: =SUM(CT16:CT19) -> 0 | CU20: =SUM(CH20,CK20,CN20,CQ20,CT20) -> 1011210 | CV20: =SUM(CV16:CV19) -> 0 | CW20: =SUM(CW16:CW19) -> 5000 | CX20: =SUM(CX16:CX19) -> 253421 | CY20: =CE20+CU20+CV20+CW20+CX20 -> 2792631 | DA20: =SUM(DA16:DA19) -> 0 | DC20: =SUM(DC16:DC19) -> 0 | DD20: =SUM(DD16:DD19) -> 15000 | DF20: =SUM(DF16:DF19) -> 212500 | DG20: =SUM(DG16:DG19) -> 0 | DI20: =SUM(DI16:DI19) -> 0 | DJ20: =SUM(DJ16:DJ19) -> 2400 | DL20: =SUM(DL16:DL19) -> 60000 | DM20: =SUM(DM16:DM19) -> 800 | DO20: =SUM(DO16:DO19) -> 288000 | DP20: =SUM(DP16:DP19) -> 0 | DR20: =SUM(DR16:DR19) -> 0 | DS20: =SUM(DS16:DS19) -> 0 | DT20: =SUM(DT16:DT19) -> 0 | DU20: =SUM(DU16:DU19) -> 0 | DV20: =SUM(DV16:DV19) -> 2000000 | DX20: =SUM(DX16:DX19) -> 795000 | DY20: =SUM(DY16:DY19) -> 2500000 | DZ20: =SUM(DZ16:DZ19) -> 0 | EB20: =SUM(EB16:EB19) -> 0 | EC20: =SUM(DC20,DF20,DI20,DL20,DO20,DR20,DU20,DX20,EB20) -> 1355500 | ED20: =SUM(ED16:ED19) -> 500 | EF20: =SUM(EF16:EF19) -> 12000 | EG20: =SUM(EG16:EG19) -> 0 | EI20: =SUM(EI16:EI19) -> 0 | EJ20: =SUM(EJ16:EJ19) -> 170 | EL20: =SUM(EL16:EL19) -> 220660 | EM20: =SUM(EM16:EM19) -> 4850 | EO20: =SUM(EO16:EO19) -> 778550 | EP20: =SUM(EP16:EP19) -> 0 | ER20: =SUM(ER16:ER19) -> 0 | ES20: =SUM(EF20,EI20,EL20,EO20,ER20) -> 1011210 | ET20: =SUM(ET16:ET19) -> 0 | EU20: =SUM(EU16:EU19) -> 5000 | EV20: =SUM(EV16:EV19) -> 236671 | EW20: =EC20+ES20+ET20+EU20+EV20 -> 2608381 | EY20: =SUM(EY16:EY19) -> 0 | FA20: =SUM(FA16:FA19) -> 0 | FB20: =SUM(FB16:FB19) -> 4500 | FD20: =SUM(FD16:FD19) -> 100000 | FE20: =SUM(FE16:FE19) -> 0 | FG20: =SUM(FG16:FG19) -> 0 | FH20: =SUM(FH16:FH19) -> 3560 | FJ20: =SUM(FJ16:FJ19) -> 89000 | FK20: =SUM(FK16:FK19) -> 800 | FM20: =SUM(FM16:FM19) -> 288000 | FN20: =SUM(FN16:FN19) -> 250 | FP20: =SUM(FP16:FP19) -> 165000 | FQ20: =SUM(FQ16:FQ19) -> 0 | FR20: =SUM(FR16:FR19) -> 0 | FS20: =SUM(FS16:FS19) -> 0 | FT20: =SUM(FT16:FT19) -> 1500000 | FV20: =SUM(FV16:FV19) -> 630000 | FW20: =SUM(FW16:FW19) -> 2300000 | FX20: =SUM(FX16:FX19) -> 0 | FZ20: =SUM(FZ16:FZ19) -> 0 | GA20: =SUM(FA20,FD20,FG20,FJ20,FM20,FP20,FS20,FV20,FZ20) -> 1272000 | GB20: =SUM(GB16:GB19) -> 500 | GD20: =SUM(GD16:GD19) -> 12000 | GE20: =SUM(GE16:GE19) -> 0 | GG20: =SUM(GG16:GG19) -> 0 | GH20: =SUM(GH16:GH19) -> 170 | GJ20: =SUM(GJ16:GJ19) -> 220660 | GK20: =SUM(GK16:GK19) -> 4850 | GM20: =SUM(GM16:GM19) -> 778550 | GN20: =SUM(GN16:GN19) -> 0 | GP20: =SUM(GP16:GP19) -> 0 | GQ20: =SUM(GD20,GG20,GJ20,GM20,GP20) -> 1011210 | GR20: =SUM(GR16:GR19) -> 0 | GS20: =SUM(GS16:GS19) -> 5000 | GT20: =SUM(GT16:GT19) -> 228321 | GU20: =GA20+GQ20+GR20+GS20+GT20 -> 2516531 | GW20: =SUM(GW16:GW19) -> 0 | GY20: =SUM(GY16:GY19) -> 0 | GZ20: =SUM(GZ16:GZ19) -> 3300 | HB20: =SUM(HB16:HB19) -> 70000 | HC20: =SUM(HC16:HC19) -> 0 | HE20: =SUM(HE16:HE19) -> 0 | HF20: =SUM(HF16:HF19) -> 2600 | HH20: =SUM(HH16:HH19) -> 65000 | HI20: =SUM(HI16:HI19) -> 800 | HK20: =SUM(HK16:HK19) -> 288000 | HL20: =SUM(HL16:HL19) -> 250 | HN20: =SUM(HN16:HN19) -> 165000 | HO20: =SUM(HO16:HO19) -> 0 | HP20: =SUM(HP16:HP19) -> 0 | HQ20: =SUM(HQ16:HQ19) -> 0 | HR20: =SUM(HR16:HR19) -> 2500000 | HT20: =SUM(HT16:HT19) -> 1060080 | HU20: =SUM(HU16:HU19) -> 2000000 | HV20: =SUM(HV16:HV19) -> 500 | HX20: =SUM(HX16:HX19) -> 125000 | HY20: =SUM(GY20,HB20,HE20,HH20,HK20,HN20,HQ20,HT20,HX20) -> 1773080 | HZ20: =SUM(HZ16:HZ19) -> 500 | IB20: =SUM(IB16:IB19) -> 12000 | IC20: =SUM(IC16:IC19) -> 0 | IE20: =SUM(IE16:IE19) -> 0 | IF20: =SUM(IF16:IF19) -> 170 | IH20: =SUM(IH16:IH19) -> 220660 | II20: =SUM(II16:II19) -> 4850 | IK20: =SUM(IK16:IK19) -> 778550 | IL20: =SUM(IL16:IL19) -> 0 | IN20: =SUM(IN16:IN19) -> 0 | IO20: =SUM(IB20,IE20,IH20,IK20,IN20) -> 1011210 | IP20: =SUM(IP16:IP19) -> 0 | IQ20: =SUM(IQ16:IQ19) -> 5000 | IR20: =SUM(IR16:IR19) -> 278429 | IS20: =HY20+IO20+IP20+IQ20+IR20 -> 3067719 | IU20: =SUM(IU16:IU19) -> 0 | IW20: =SUM(IW16:IW19) -> 0 | IX20: =SUM(IX16:IX19) -> 3300 | IZ20: =SUM(IZ16:IZ19) -> 70000 | JA20: =SUM(JA16:JA19) -> 0 | JC20: =SUM(JC16:JC19) -> 0 | JD20: =SUM(JD16:JD19) -> 3060 | JF20: =SUM(JF16:JF19) -> 76500 | JG20: =SUM(JG16:JG19) -> 800 | JI20: =SUM(JI16:JI19) -> 288000 | JJ20: =SUM(JJ16:JJ19) -> 250 | JL20: =SUM(JL16:JL19) -> 165000 | JM20: =SUM(JM16:JM19) -> 0 | JN20: =SUM(JN16:JN19) -> 0 | JO20: =SUM(JO16:JO19) -> 0 | JP20: =SUM(JP16:JP19) -> 2300000 | JR20: =SUM(JR16:JR19) -> 988400 | JS20: =SUM(JS16:JS19) -> 2000000 | JT20: =SUM(JT16:JT19) -> 300 | JV20: =SUM(JV16:JV19) -> 75000 | JW20: =SUM(IW20,IZ20,JC20,JF20,JI20,JL20,JO20,JR20,JV20) -> 1662900 | JX20: =SUM(JX16:JX19) -> 500 | JZ20: =SUM(JZ16:JZ19) -> 12000 | KA20: =SUM(KA16:KA19) -> 0 | KC20: =SUM(KC16:KC19) -> 0 | KD20: =SUM(KD16:KD19) -> 170 | KF20: =SUM(KF16:KF19) -> 220660 | KG20: =SUM(KG16:KG19) -> 4850 | KI20: =SUM(KI16:KI19) -> 778550 | KJ20: =SUM(KJ16:KJ19) -> 0 | KL20: =SUM(KL16:KL19) -> 0 | KM20: =SUM(JZ20,KC20,KF20,KI20,KL20) -> 1011210 | KN20: =SUM(KN16:KN19) -> 0 | KO20: =SUM(KO16:KO19) -> 5000 | KP20: =SUM(KP16:KP19) -> 267411 | KQ20: =JW20+KM20+KN20+KO20+KP20 -> 2946521
C21: 100 Mile | D21: District | E21: 50 | F21: =IF(ISERROR(G21/E21),"",(G21/E21)) -> 30 | G21: 1500 | H21: 2000 | I21: =IF(ISERROR(J21/H21),"",(J21/H21)) -> 30 | J21: 60000 | L21: =IF(ISERROR(M21/K21),"",(M21/K21)) | O21: =IF(ISERROR(P21/N21),"",(P21/N21)) | R21: =IF(ISERROR(S21/Q21),"",(S21/Q21)) | U21: =IF(ISERROR(V21/T21),"",(V21/T21)) | Z21: 700000 | AA21: =IF(ISERROR(AB21/Z21),"",(AB21/Z21)) -> 0.55 | AB21: 385000 | AE21: =IF(ISERROR(AF21/AD21),"",(AF21/AD21)) | AG21: =SUM(G21,J21,M21,P21,S21,V21,AB21,AF21) -> 446500 | AI21: =IF(ISERROR(AJ21/AH21),"",(AJ21/AH21)) | AL21: =IF(ISERROR(AM21/AK21),"",(AM21/AK21)) | AO21: =IF(ISERROR(AP21/AN21),"",(AP21/AN21)) | AR21: =IF(ISERROR(AS21/AQ21),"",(AS21/AQ21)) | AU21: =IF(ISERROR(AV21/AT21),"0",(AV21/AT21)) -> 0 | AW21: =SUM(AJ21,AM21,AP21,AS21,AV21) -> 0 | AY21: 5000 | AZ21: =SUM(G21,J21,M21,P21,S21,V21,AB21,AF21,AJ21,AM21,AP21,AV21,AS21,AX21)*0.1 -> 44650 | BA21: =AG21+AW21+AX21+AY21+AZ21 -> 496150 | BD21: =IF(ISERROR(BE21/BC21),"",(BE21/BC21)) | BF21: 2000 | BG21: =IF(ISERROR(BH21/BF21),"",(BH21/BF21)) -> 30 | BH21: 60000 | BI21: 4105 | BJ21: =IF(ISERROR(BK21/BI21),"",(BK21/BI21)) -> 30 | BK21: 123150 | BM21: =IF(ISERROR(BN21/BL21),"",(BN21/BL21)) | BP21: =IF(ISERROR(BQ21/BO21),"",(BQ21/BO21)) | BS21: =IF(ISERROR(BT21/BR21),"",(BT21/BR21)) | BY21: =IF(ISERROR(BZ21/BX21),"",(BZ21/BX21)) | CC21: =IF(ISERROR(CD21/CB21),"",(CD21/CB21)) | CE21: =SUM(BE21,BH21,BK21,BN21,BQ21,BT21,BW21,BZ21,CD21) -> 183150 | CG21: =IF(ISERROR(CH21/CF21),"",(CH21/CF21)) | CJ21: =IF(ISERROR(CK21/CI21),"",(CK21/CI21)) | CM21: =IF(ISERROR(CN21/CL21),"",(CN21/CL21)) | CP21: =IF(ISERROR(CQ21/CO21),"",(CQ21/CO21)) | CS21: =IF(ISERROR(CT21/CR21),"",(CT21/CR21)) | CU21: =SUM(CH21,CK21,CN21,CQ21,CT21) -> 0 | CW21: 5000 | CX21: =SUM(BE21,BH21,BK21,BN21,BQ21,BT21,BZ21,CD21,CH21,CK21,CN21,CQ21,CT21)*0.1 -> 18315 | CY21: =CE21+CU21+CV21+CW21+CX21 -> 206465 | DD21: 2000 | DF21: 60000 | DG21: 1700 | DI21: 51000 | EC21: =SUM(DC21,DF21,DI21,DL21,DO21,DR21,DU21,DX21,EB21) -> 111000 | ES21: =SUM(EF21,EI21,EL21,EO21,ER21) -> 0 | EU21: 5000 | EV21: =SUM(DC21,DF21,DI21,DL21,DO21,DR21,DX21,EB21,EF21,EI21,EL21,EO21,ER21)*0.1 -> 11100 | EW21: =EC21+ES21+ET21+EU21+EV21 -> 127100 | FB21: 2000 | FD21: 60000 | FE21: 757 | FG21: 22710 | GA21: =SUM(FA21,FD21,FG21,FJ21,FM21,FP21,FS21,FV21,FZ21) -> 82710 | GB21: 1000 | GD21: 30000 | GQ21: =SUM(GD21,GG21,GJ21,GM21,GP21) -> 30000 | GS21: 5000 | GT21: =SUM(FA21,FD21,FG21,FJ21,FM21,FP21,FV21,FZ21,GD21,GG21,GJ21,GM21,GP21)*0.1 -> 11271 | GU21: =GA21+GQ21+GR21+GS21+GT21 -> 128981 | GZ21: 2000 | HB21: 60000 | HY21: =SUM(GY21,HB21,HE21,HH21,HK21,HN21,HQ21,HT21,HX21) -> 60000 | HZ21: 1000 | IB21: 30000 | IO21: =SUM(IB21,IE21,IH21,IK21,IN21) -> 30000 | IQ21: 5000 | IR21: =SUM(GY21,HB21,HE21,HH21,HK21,HN21,HT21,HX21,IB21,IE21,IH21,IK21,IN21)*0.1 -> 9000 | IS21: =HY21+IO21+IP21+IQ21+IR21 -> 104000 | IX21: 2000 | IZ21: 60000 | JW21: =SUM(IW21,IZ21,JC21,JF21,JI21,JL21,JO21,JR21,JV21) -> 60000 | JX21: 1000 | JZ21: 30000 | KM21: =SUM(JZ21,KC21,KF21,KI21,KL21) -> 30000 | KO21: 5000 | KP21: =SUM(IW21,IZ21,JC21,JF21,JI21,JL21,JR21,JV21,JZ21,KC21,KF21,KI21,KL21)*0.1 -> 9000 | KQ21: =JW21+KM21+KN21+KO21+KP21 -> 104000
